BEGIN:VCALENDAR
VERSION:2.0
PRODID:-//Phantom Canyon Brewing Co. - ECPv6.15.20//NONSGML v1.0//EN
CALSCALE:GREGORIAN
METHOD:PUBLISH
X-WR-CALNAME:Phantom Canyon Brewing Co.
X-ORIGINAL-URL:https://phantomcanyon.com
X-WR-CALDESC:Events for Phantom Canyon Brewing Co.
REFRESH-INTERVAL;VALUE=DURATION:PT1H
X-Robots-Tag:noindex
X-PUBLISHED-TTL:PT1H
BEGIN:VTIMEZONE
TZID:America/Denver
BEGIN:DAYLIGHT
TZOFFSETFROM:-0700
TZOFFSETTO:-0600
TZNAME:MDT
DTSTART:20280312T090000
END:DAYLIGHT
BEGIN:STANDARD
TZOFFSETFROM:-0600
TZOFFSETTO:-0700
TZNAME:MST
DTSTART:20281105T080000
END:STANDARD
BEGIN:DAYLIGHT
TZOFFSETFROM:-0700
TZOFFSETTO:-0600
TZNAME:MDT
DTSTART:20290311T090000
END:DAYLIGHT
BEGIN:STANDARD
TZOFFSETFROM:-0600
TZOFFSETTO:-0700
TZNAME:MST
DTSTART:20291104T080000
END:STANDARD
BEGIN:DAYLIGHT
TZOFFSETFROM:-0700
TZOFFSETTO:-0600
TZNAME:MDT
DTSTART:20300310T090000
END:DAYLIGHT
BEGIN:STANDARD
TZOFFSETFROM:-0600
TZOFFSETTO:-0700
TZNAME:MST
DTSTART:20301103T080000
END:STANDARD
END:VTIMEZONE
BEGIN:VEVENT
DTSTART;VALUE=DATE:20290812
DTEND;VALUE=DATE:20290813
DTSTAMP:20260422T190606
CREATED:20250123T165639Z
LAST-MODIFIED:20250123T165820Z
UID:10002041-1881187200-1881273599@phantomcanyon.com
SUMMARY:Happy Hour Sundays
DESCRIPTION:Join us for happy hour drink specials including $4 flagship pints of beer\, $5 well cocktails\, and $5 wine.  \nALL DAY SUNDAYS
URL:https://phantomcanyon.com/event/happy-hour-sundays/2029-08-12/
ATTACH;FMTTYPE=image/jpeg:https://phantomcanyon.com/wp-content/uploads/2025/01/happy_hour_sundays.jpg
END:VEVENT
BEGIN:VEVENT
DTSTART;VALUE=DATE:20290816
DTEND;VALUE=DATE:20290817
DTSTAMP:20260422T190606
CREATED:20250122T235523Z
LAST-MODIFIED:20250528T140029Z
UID:10001781-1881532800-1881619199@phantomcanyon.com
SUMMARY:Military Thursdays
DESCRIPTION:We proudly offer active military and veterans a 20% DISCOUNT on food & drink. \n*Valid with military ID.
URL:https://phantomcanyon.com/event/military-thursdays/2029-08-16/
ATTACH;FMTTYPE=image/jpeg:https://phantomcanyon.com/wp-content/uploads/2025/01/event_military_thursdays.jpg
END:VEVENT
BEGIN:VEVENT
DTSTART;VALUE=DATE:20290819
DTEND;VALUE=DATE:20290820
DTSTAMP:20260422T190606
CREATED:20250123T165639Z
LAST-MODIFIED:20250123T165820Z
UID:10002042-1881792000-1881878399@phantomcanyon.com
SUMMARY:Happy Hour Sundays
DESCRIPTION:Join us for happy hour drink specials including $4 flagship pints of beer\, $5 well cocktails\, and $5 wine.  \nALL DAY SUNDAYS
URL:https://phantomcanyon.com/event/happy-hour-sundays/2029-08-19/
ATTACH;FMTTYPE=image/jpeg:https://phantomcanyon.com/wp-content/uploads/2025/01/happy_hour_sundays.jpg
END:VEVENT
BEGIN:VEVENT
DTSTART;VALUE=DATE:20290823
DTEND;VALUE=DATE:20290824
DTSTAMP:20260422T190606
CREATED:20250122T235523Z
LAST-MODIFIED:20250528T140029Z
UID:10001782-1882137600-1882223999@phantomcanyon.com
SUMMARY:Military Thursdays
DESCRIPTION:We proudly offer active military and veterans a 20% DISCOUNT on food & drink. \n*Valid with military ID.
URL:https://phantomcanyon.com/event/military-thursdays/2029-08-23/
ATTACH;FMTTYPE=image/jpeg:https://phantomcanyon.com/wp-content/uploads/2025/01/event_military_thursdays.jpg
END:VEVENT
BEGIN:VEVENT
DTSTART;VALUE=DATE:20290826
DTEND;VALUE=DATE:20290827
DTSTAMP:20260422T190606
CREATED:20250123T165639Z
LAST-MODIFIED:20250123T165820Z
UID:10002043-1882396800-1882483199@phantomcanyon.com
SUMMARY:Happy Hour Sundays
DESCRIPTION:Join us for happy hour drink specials including $4 flagship pints of beer\, $5 well cocktails\, and $5 wine.  \nALL DAY SUNDAYS
URL:https://phantomcanyon.com/event/happy-hour-sundays/2029-08-26/
ATTACH;FMTTYPE=image/jpeg:https://phantomcanyon.com/wp-content/uploads/2025/01/happy_hour_sundays.jpg
END:VEVENT
BEGIN:VEVENT
DTSTART;VALUE=DATE:20290830
DTEND;VALUE=DATE:20290831
DTSTAMP:20260422T190606
CREATED:20250122T235523Z
LAST-MODIFIED:20250528T140029Z
UID:10001783-1882742400-1882828799@phantomcanyon.com
SUMMARY:Military Thursdays
DESCRIPTION:We proudly offer active military and veterans a 20% DISCOUNT on food & drink. \n*Valid with military ID.
URL:https://phantomcanyon.com/event/military-thursdays/2029-08-30/
ATTACH;FMTTYPE=image/jpeg:https://phantomcanyon.com/wp-content/uploads/2025/01/event_military_thursdays.jpg
END:VEVENT
BEGIN:VEVENT
DTSTART;VALUE=DATE:20290902
DTEND;VALUE=DATE:20290903
DTSTAMP:20260422T190606
CREATED:20250123T165639Z
LAST-MODIFIED:20250123T165820Z
UID:10002044-1883001600-1883087999@phantomcanyon.com
SUMMARY:Happy Hour Sundays
DESCRIPTION:Join us for happy hour drink specials including $4 flagship pints of beer\, $5 well cocktails\, and $5 wine.  \nALL DAY SUNDAYS
URL:https://phantomcanyon.com/event/happy-hour-sundays/2029-09-02/
ATTACH;FMTTYPE=image/jpeg:https://phantomcanyon.com/wp-content/uploads/2025/01/happy_hour_sundays.jpg
END:VEVENT
BEGIN:VEVENT
DTSTART;VALUE=DATE:20290906
DTEND;VALUE=DATE:20290907
DTSTAMP:20260422T190606
CREATED:20250122T235523Z
LAST-MODIFIED:20250528T140029Z
UID:10001784-1883347200-1883433599@phantomcanyon.com
SUMMARY:Military Thursdays
DESCRIPTION:We proudly offer active military and veterans a 20% DISCOUNT on food & drink. \n*Valid with military ID.
URL:https://phantomcanyon.com/event/military-thursdays/2029-09-06/
ATTACH;FMTTYPE=image/jpeg:https://phantomcanyon.com/wp-content/uploads/2025/01/event_military_thursdays.jpg
END:VEVENT
BEGIN:VEVENT
DTSTART;VALUE=DATE:20290909
DTEND;VALUE=DATE:20290910
DTSTAMP:20260422T190606
CREATED:20250123T165639Z
LAST-MODIFIED:20250123T165820Z
UID:10002045-1883606400-1883692799@phantomcanyon.com
SUMMARY:Happy Hour Sundays
DESCRIPTION:Join us for happy hour drink specials including $4 flagship pints of beer\, $5 well cocktails\, and $5 wine.  \nALL DAY SUNDAYS
URL:https://phantomcanyon.com/event/happy-hour-sundays/2029-09-09/
ATTACH;FMTTYPE=image/jpeg:https://phantomcanyon.com/wp-content/uploads/2025/01/happy_hour_sundays.jpg
END:VEVENT
BEGIN:VEVENT
DTSTART;VALUE=DATE:20290913
DTEND;VALUE=DATE:20290914
DTSTAMP:20260422T190606
CREATED:20250122T235523Z
LAST-MODIFIED:20250528T140029Z
UID:10001785-1883952000-1884038399@phantomcanyon.com
SUMMARY:Military Thursdays
DESCRIPTION:We proudly offer active military and veterans a 20% DISCOUNT on food & drink. \n*Valid with military ID.
URL:https://phantomcanyon.com/event/military-thursdays/2029-09-13/
ATTACH;FMTTYPE=image/jpeg:https://phantomcanyon.com/wp-content/uploads/2025/01/event_military_thursdays.jpg
END:VEVENT
BEGIN:VEVENT
DTSTART;VALUE=DATE:20290916
DTEND;VALUE=DATE:20290917
DTSTAMP:20260422T190606
CREATED:20250123T165639Z
LAST-MODIFIED:20250123T165820Z
UID:10002046-1884211200-1884297599@phantomcanyon.com
SUMMARY:Happy Hour Sundays
DESCRIPTION:Join us for happy hour drink specials including $4 flagship pints of beer\, $5 well cocktails\, and $5 wine.  \nALL DAY SUNDAYS
URL:https://phantomcanyon.com/event/happy-hour-sundays/2029-09-16/
ATTACH;FMTTYPE=image/jpeg:https://phantomcanyon.com/wp-content/uploads/2025/01/happy_hour_sundays.jpg
END:VEVENT
BEGIN:VEVENT
DTSTART;VALUE=DATE:20290920
DTEND;VALUE=DATE:20290921
DTSTAMP:20260422T190606
CREATED:20250122T235523Z
LAST-MODIFIED:20250528T140029Z
UID:10001786-1884556800-1884643199@phantomcanyon.com
SUMMARY:Military Thursdays
DESCRIPTION:We proudly offer active military and veterans a 20% DISCOUNT on food & drink. \n*Valid with military ID.
URL:https://phantomcanyon.com/event/military-thursdays/2029-09-20/
ATTACH;FMTTYPE=image/jpeg:https://phantomcanyon.com/wp-content/uploads/2025/01/event_military_thursdays.jpg
END:VEVENT
BEGIN:VEVENT
DTSTART;VALUE=DATE:20290923
DTEND;VALUE=DATE:20290924
DTSTAMP:20260422T190606
CREATED:20250123T165639Z
LAST-MODIFIED:20250123T165820Z
UID:10002047-1884816000-1884902399@phantomcanyon.com
SUMMARY:Happy Hour Sundays
DESCRIPTION:Join us for happy hour drink specials including $4 flagship pints of beer\, $5 well cocktails\, and $5 wine.  \nALL DAY SUNDAYS
URL:https://phantomcanyon.com/event/happy-hour-sundays/2029-09-23/
ATTACH;FMTTYPE=image/jpeg:https://phantomcanyon.com/wp-content/uploads/2025/01/happy_hour_sundays.jpg
END:VEVENT
BEGIN:VEVENT
DTSTART;VALUE=DATE:20290927
DTEND;VALUE=DATE:20290928
DTSTAMP:20260422T190606
CREATED:20250122T235523Z
LAST-MODIFIED:20250528T140029Z
UID:10001787-1885161600-1885247999@phantomcanyon.com
SUMMARY:Military Thursdays
DESCRIPTION:We proudly offer active military and veterans a 20% DISCOUNT on food & drink. \n*Valid with military ID.
URL:https://phantomcanyon.com/event/military-thursdays/2029-09-27/
ATTACH;FMTTYPE=image/jpeg:https://phantomcanyon.com/wp-content/uploads/2025/01/event_military_thursdays.jpg
END:VEVENT
BEGIN:VEVENT
DTSTART;VALUE=DATE:20290930
DTEND;VALUE=DATE:20291001
DTSTAMP:20260422T190606
CREATED:20250123T165639Z
LAST-MODIFIED:20250123T165820Z
UID:10002048-1885420800-1885507199@phantomcanyon.com
SUMMARY:Happy Hour Sundays
DESCRIPTION:Join us for happy hour drink specials including $4 flagship pints of beer\, $5 well cocktails\, and $5 wine.  \nALL DAY SUNDAYS
URL:https://phantomcanyon.com/event/happy-hour-sundays/2029-09-30/
ATTACH;FMTTYPE=image/jpeg:https://phantomcanyon.com/wp-content/uploads/2025/01/happy_hour_sundays.jpg
END:VEVENT
BEGIN:VEVENT
DTSTART;VALUE=DATE:20291004
DTEND;VALUE=DATE:20291005
DTSTAMP:20260422T190606
CREATED:20250122T235523Z
LAST-MODIFIED:20250528T140029Z
UID:10001788-1885766400-1885852799@phantomcanyon.com
SUMMARY:Military Thursdays
DESCRIPTION:We proudly offer active military and veterans a 20% DISCOUNT on food & drink. \n*Valid with military ID.
URL:https://phantomcanyon.com/event/military-thursdays/2029-10-04/
ATTACH;FMTTYPE=image/jpeg:https://phantomcanyon.com/wp-content/uploads/2025/01/event_military_thursdays.jpg
END:VEVENT
BEGIN:VEVENT
DTSTART;VALUE=DATE:20291007
DTEND;VALUE=DATE:20291008
DTSTAMP:20260422T190606
CREATED:20250123T165639Z
LAST-MODIFIED:20250123T165820Z
UID:10002049-1886025600-1886111999@phantomcanyon.com
SUMMARY:Happy Hour Sundays
DESCRIPTION:Join us for happy hour drink specials including $4 flagship pints of beer\, $5 well cocktails\, and $5 wine.  \nALL DAY SUNDAYS
URL:https://phantomcanyon.com/event/happy-hour-sundays/2029-10-07/
ATTACH;FMTTYPE=image/jpeg:https://phantomcanyon.com/wp-content/uploads/2025/01/happy_hour_sundays.jpg
END:VEVENT
BEGIN:VEVENT
DTSTART;VALUE=DATE:20291011
DTEND;VALUE=DATE:20291012
DTSTAMP:20260422T190606
CREATED:20250122T235523Z
LAST-MODIFIED:20250528T140029Z
UID:10001789-1886371200-1886457599@phantomcanyon.com
SUMMARY:Military Thursdays
DESCRIPTION:We proudly offer active military and veterans a 20% DISCOUNT on food & drink. \n*Valid with military ID.
URL:https://phantomcanyon.com/event/military-thursdays/2029-10-11/
ATTACH;FMTTYPE=image/jpeg:https://phantomcanyon.com/wp-content/uploads/2025/01/event_military_thursdays.jpg
END:VEVENT
BEGIN:VEVENT
DTSTART;VALUE=DATE:20291014
DTEND;VALUE=DATE:20291015
DTSTAMP:20260422T190606
CREATED:20250123T165639Z
LAST-MODIFIED:20250123T165820Z
UID:10002050-1886630400-1886716799@phantomcanyon.com
SUMMARY:Happy Hour Sundays
DESCRIPTION:Join us for happy hour drink specials including $4 flagship pints of beer\, $5 well cocktails\, and $5 wine.  \nALL DAY SUNDAYS
URL:https://phantomcanyon.com/event/happy-hour-sundays/2029-10-14/
ATTACH;FMTTYPE=image/jpeg:https://phantomcanyon.com/wp-content/uploads/2025/01/happy_hour_sundays.jpg
END:VEVENT
BEGIN:VEVENT
DTSTART;VALUE=DATE:20291018
DTEND;VALUE=DATE:20291019
DTSTAMP:20260422T190606
CREATED:20250122T235523Z
LAST-MODIFIED:20250528T140029Z
UID:10001790-1886976000-1887062399@phantomcanyon.com
SUMMARY:Military Thursdays
DESCRIPTION:We proudly offer active military and veterans a 20% DISCOUNT on food & drink. \n*Valid with military ID.
URL:https://phantomcanyon.com/event/military-thursdays/2029-10-18/
ATTACH;FMTTYPE=image/jpeg:https://phantomcanyon.com/wp-content/uploads/2025/01/event_military_thursdays.jpg
END:VEVENT
BEGIN:VEVENT
DTSTART;VALUE=DATE:20291021
DTEND;VALUE=DATE:20291022
DTSTAMP:20260422T190606
CREATED:20250123T165639Z
LAST-MODIFIED:20250123T165820Z
UID:10002051-1887235200-1887321599@phantomcanyon.com
SUMMARY:Happy Hour Sundays
DESCRIPTION:Join us for happy hour drink specials including $4 flagship pints of beer\, $5 well cocktails\, and $5 wine.  \nALL DAY SUNDAYS
URL:https://phantomcanyon.com/event/happy-hour-sundays/2029-10-21/
ATTACH;FMTTYPE=image/jpeg:https://phantomcanyon.com/wp-content/uploads/2025/01/happy_hour_sundays.jpg
END:VEVENT
BEGIN:VEVENT
DTSTART;VALUE=DATE:20291025
DTEND;VALUE=DATE:20291026
DTSTAMP:20260422T190606
CREATED:20250122T235523Z
LAST-MODIFIED:20250528T140029Z
UID:10001791-1887580800-1887667199@phantomcanyon.com
SUMMARY:Military Thursdays
DESCRIPTION:We proudly offer active military and veterans a 20% DISCOUNT on food & drink. \n*Valid with military ID.
URL:https://phantomcanyon.com/event/military-thursdays/2029-10-25/
ATTACH;FMTTYPE=image/jpeg:https://phantomcanyon.com/wp-content/uploads/2025/01/event_military_thursdays.jpg
END:VEVENT
BEGIN:VEVENT
DTSTART;VALUE=DATE:20291028
DTEND;VALUE=DATE:20291029
DTSTAMP:20260422T190606
CREATED:20250123T165639Z
LAST-MODIFIED:20250123T165820Z
UID:10002052-1887840000-1887926399@phantomcanyon.com
SUMMARY:Happy Hour Sundays
DESCRIPTION:Join us for happy hour drink specials including $4 flagship pints of beer\, $5 well cocktails\, and $5 wine.  \nALL DAY SUNDAYS
URL:https://phantomcanyon.com/event/happy-hour-sundays/2029-10-28/
ATTACH;FMTTYPE=image/jpeg:https://phantomcanyon.com/wp-content/uploads/2025/01/happy_hour_sundays.jpg
END:VEVENT
BEGIN:VEVENT
DTSTART;VALUE=DATE:20291101
DTEND;VALUE=DATE:20291102
DTSTAMP:20260422T190606
CREATED:20250122T235523Z
LAST-MODIFIED:20250528T140029Z
UID:10001792-1888185600-1888271999@phantomcanyon.com
SUMMARY:Military Thursdays
DESCRIPTION:We proudly offer active military and veterans a 20% DISCOUNT on food & drink. \n*Valid with military ID.
URL:https://phantomcanyon.com/event/military-thursdays/2029-11-01/
ATTACH;FMTTYPE=image/jpeg:https://phantomcanyon.com/wp-content/uploads/2025/01/event_military_thursdays.jpg
END:VEVENT
BEGIN:VEVENT
DTSTART;VALUE=DATE:20291104
DTEND;VALUE=DATE:20291105
DTSTAMP:20260422T190606
CREATED:20250123T165639Z
LAST-MODIFIED:20250123T165820Z
UID:10002053-1888444800-1888527599@phantomcanyon.com
SUMMARY:Happy Hour Sundays
DESCRIPTION:Join us for happy hour drink specials including $4 flagship pints of beer\, $5 well cocktails\, and $5 wine.  \nALL DAY SUNDAYS
URL:https://phantomcanyon.com/event/happy-hour-sundays/2029-11-04/
ATTACH;FMTTYPE=image/jpeg:https://phantomcanyon.com/wp-content/uploads/2025/01/happy_hour_sundays.jpg
END:VEVENT
BEGIN:VEVENT
DTSTART;VALUE=DATE:20291108
DTEND;VALUE=DATE:20291109
DTSTAMP:20260422T190606
CREATED:20250122T235523Z
LAST-MODIFIED:20250528T140029Z
UID:10001793-1888790400-1888876799@phantomcanyon.com
SUMMARY:Military Thursdays
DESCRIPTION:We proudly offer active military and veterans a 20% DISCOUNT on food & drink. \n*Valid with military ID.
URL:https://phantomcanyon.com/event/military-thursdays/2029-11-08/
ATTACH;FMTTYPE=image/jpeg:https://phantomcanyon.com/wp-content/uploads/2025/01/event_military_thursdays.jpg
END:VEVENT
BEGIN:VEVENT
DTSTART;VALUE=DATE:20291111
DTEND;VALUE=DATE:20291112
DTSTAMP:20260422T190606
CREATED:20250123T165639Z
LAST-MODIFIED:20250123T165820Z
UID:10002054-1889049600-1889135999@phantomcanyon.com
SUMMARY:Happy Hour Sundays
DESCRIPTION:Join us for happy hour drink specials including $4 flagship pints of beer\, $5 well cocktails\, and $5 wine.  \nALL DAY SUNDAYS
URL:https://phantomcanyon.com/event/happy-hour-sundays/2029-11-11/
ATTACH;FMTTYPE=image/jpeg:https://phantomcanyon.com/wp-content/uploads/2025/01/happy_hour_sundays.jpg
END:VEVENT
BEGIN:VEVENT
DTSTART;VALUE=DATE:20291115
DTEND;VALUE=DATE:20291116
DTSTAMP:20260422T190606
CREATED:20250122T235523Z
LAST-MODIFIED:20250528T140029Z
UID:10001794-1889395200-1889481599@phantomcanyon.com
SUMMARY:Military Thursdays
DESCRIPTION:We proudly offer active military and veterans a 20% DISCOUNT on food & drink. \n*Valid with military ID.
URL:https://phantomcanyon.com/event/military-thursdays/2029-11-15/
ATTACH;FMTTYPE=image/jpeg:https://phantomcanyon.com/wp-content/uploads/2025/01/event_military_thursdays.jpg
END:VEVENT
BEGIN:VEVENT
DTSTART;VALUE=DATE:20291118
DTEND;VALUE=DATE:20291119
DTSTAMP:20260422T190606
CREATED:20250123T165639Z
LAST-MODIFIED:20250123T165820Z
UID:10002055-1889654400-1889740799@phantomcanyon.com
SUMMARY:Happy Hour Sundays
DESCRIPTION:Join us for happy hour drink specials including $4 flagship pints of beer\, $5 well cocktails\, and $5 wine.  \nALL DAY SUNDAYS
URL:https://phantomcanyon.com/event/happy-hour-sundays/2029-11-18/
ATTACH;FMTTYPE=image/jpeg:https://phantomcanyon.com/wp-content/uploads/2025/01/happy_hour_sundays.jpg
END:VEVENT
BEGIN:VEVENT
DTSTART;VALUE=DATE:20291122
DTEND;VALUE=DATE:20291123
DTSTAMP:20260422T190606
CREATED:20250122T235523Z
LAST-MODIFIED:20250528T140029Z
UID:10001795-1890000000-1890086399@phantomcanyon.com
SUMMARY:Military Thursdays
DESCRIPTION:We proudly offer active military and veterans a 20% DISCOUNT on food & drink. \n*Valid with military ID.
URL:https://phantomcanyon.com/event/military-thursdays/2029-11-22/
ATTACH;FMTTYPE=image/jpeg:https://phantomcanyon.com/wp-content/uploads/2025/01/event_military_thursdays.jpg
END:VEVENT
END:VCALENDAR