BEGIN:VCALENDAR
VERSION:2.0
PRODID:-//Phantom Canyon Brewing Co. - ECPv6.15.20//NONSGML v1.0//EN
CALSCALE:GREGORIAN
METHOD:PUBLISH
X-WR-CALNAME:Phantom Canyon Brewing Co.
X-ORIGINAL-URL:https://phantomcanyon.com
X-WR-CALDESC:Events for Phantom Canyon Brewing Co.
REFRESH-INTERVAL;VALUE=DURATION:PT1H
X-Robots-Tag:noindex
X-PUBLISHED-TTL:PT1H
BEGIN:VTIMEZONE
TZID:America/Denver
BEGIN:DAYLIGHT
TZOFFSETFROM:-0700
TZOFFSETTO:-0600
TZNAME:MDT
DTSTART:20280312T090000
END:DAYLIGHT
BEGIN:STANDARD
TZOFFSETFROM:-0600
TZOFFSETTO:-0700
TZNAME:MST
DTSTART:20281105T080000
END:STANDARD
BEGIN:DAYLIGHT
TZOFFSETFROM:-0700
TZOFFSETTO:-0600
TZNAME:MDT
DTSTART:20290311T090000
END:DAYLIGHT
BEGIN:STANDARD
TZOFFSETFROM:-0600
TZOFFSETTO:-0700
TZNAME:MST
DTSTART:20291104T080000
END:STANDARD
BEGIN:DAYLIGHT
TZOFFSETFROM:-0700
TZOFFSETTO:-0600
TZNAME:MDT
DTSTART:20300310T090000
END:DAYLIGHT
BEGIN:STANDARD
TZOFFSETFROM:-0600
TZOFFSETTO:-0700
TZNAME:MST
DTSTART:20301103T080000
END:STANDARD
END:VTIMEZONE
BEGIN:VEVENT
DTSTART;VALUE=DATE:20290225
DTEND;VALUE=DATE:20290226
DTSTAMP:20260422T125336
CREATED:20250123T165639Z
LAST-MODIFIED:20250123T165820Z
UID:10002017-1866672000-1866758399@phantomcanyon.com
SUMMARY:Happy Hour Sundays
DESCRIPTION:Join us for happy hour drink specials including $4 flagship pints of beer\, $5 well cocktails\, and $5 wine.  \nALL DAY SUNDAYS
URL:https://phantomcanyon.com/event/happy-hour-sundays/2029-02-25/
ATTACH;FMTTYPE=image/jpeg:https://phantomcanyon.com/wp-content/uploads/2025/01/happy_hour_sundays.jpg
END:VEVENT
BEGIN:VEVENT
DTSTART;VALUE=DATE:20290301
DTEND;VALUE=DATE:20290302
DTSTAMP:20260422T125336
CREATED:20250122T235523Z
LAST-MODIFIED:20250528T140029Z
UID:10001757-1867017600-1867103999@phantomcanyon.com
SUMMARY:Military Thursdays
DESCRIPTION:We proudly offer active military and veterans a 20% DISCOUNT on food & drink. \n*Valid with military ID.
URL:https://phantomcanyon.com/event/military-thursdays/2029-03-01/
ATTACH;FMTTYPE=image/jpeg:https://phantomcanyon.com/wp-content/uploads/2025/01/event_military_thursdays.jpg
END:VEVENT
BEGIN:VEVENT
DTSTART;VALUE=DATE:20290304
DTEND;VALUE=DATE:20290305
DTSTAMP:20260422T125336
CREATED:20250123T165639Z
LAST-MODIFIED:20250123T165820Z
UID:10002018-1867276800-1867363199@phantomcanyon.com
SUMMARY:Happy Hour Sundays
DESCRIPTION:Join us for happy hour drink specials including $4 flagship pints of beer\, $5 well cocktails\, and $5 wine.  \nALL DAY SUNDAYS
URL:https://phantomcanyon.com/event/happy-hour-sundays/2029-03-04/
ATTACH;FMTTYPE=image/jpeg:https://phantomcanyon.com/wp-content/uploads/2025/01/happy_hour_sundays.jpg
END:VEVENT
BEGIN:VEVENT
DTSTART;VALUE=DATE:20290308
DTEND;VALUE=DATE:20290309
DTSTAMP:20260422T125336
CREATED:20250122T235523Z
LAST-MODIFIED:20250528T140029Z
UID:10001758-1867622400-1867708799@phantomcanyon.com
SUMMARY:Military Thursdays
DESCRIPTION:We proudly offer active military and veterans a 20% DISCOUNT on food & drink. \n*Valid with military ID.
URL:https://phantomcanyon.com/event/military-thursdays/2029-03-08/
ATTACH;FMTTYPE=image/jpeg:https://phantomcanyon.com/wp-content/uploads/2025/01/event_military_thursdays.jpg
END:VEVENT
BEGIN:VEVENT
DTSTART;VALUE=DATE:20290311
DTEND;VALUE=DATE:20290312
DTSTAMP:20260422T125336
CREATED:20250123T165639Z
LAST-MODIFIED:20250123T165820Z
UID:10002019-1867881600-1867967999@phantomcanyon.com
SUMMARY:Happy Hour Sundays
DESCRIPTION:Join us for happy hour drink specials including $4 flagship pints of beer\, $5 well cocktails\, and $5 wine.  \nALL DAY SUNDAYS
URL:https://phantomcanyon.com/event/happy-hour-sundays/2029-03-11/
ATTACH;FMTTYPE=image/jpeg:https://phantomcanyon.com/wp-content/uploads/2025/01/happy_hour_sundays.jpg
END:VEVENT
BEGIN:VEVENT
DTSTART;VALUE=DATE:20290315
DTEND;VALUE=DATE:20290316
DTSTAMP:20260422T125336
CREATED:20250122T235523Z
LAST-MODIFIED:20250528T140029Z
UID:10001759-1868227200-1868313599@phantomcanyon.com
SUMMARY:Military Thursdays
DESCRIPTION:We proudly offer active military and veterans a 20% DISCOUNT on food & drink. \n*Valid with military ID.
URL:https://phantomcanyon.com/event/military-thursdays/2029-03-15/
ATTACH;FMTTYPE=image/jpeg:https://phantomcanyon.com/wp-content/uploads/2025/01/event_military_thursdays.jpg
END:VEVENT
BEGIN:VEVENT
DTSTART;VALUE=DATE:20290318
DTEND;VALUE=DATE:20290319
DTSTAMP:20260422T125336
CREATED:20250123T165639Z
LAST-MODIFIED:20250123T165820Z
UID:10002020-1868486400-1868572799@phantomcanyon.com
SUMMARY:Happy Hour Sundays
DESCRIPTION:Join us for happy hour drink specials including $4 flagship pints of beer\, $5 well cocktails\, and $5 wine.  \nALL DAY SUNDAYS
URL:https://phantomcanyon.com/event/happy-hour-sundays/2029-03-18/
ATTACH;FMTTYPE=image/jpeg:https://phantomcanyon.com/wp-content/uploads/2025/01/happy_hour_sundays.jpg
END:VEVENT
BEGIN:VEVENT
DTSTART;VALUE=DATE:20290322
DTEND;VALUE=DATE:20290323
DTSTAMP:20260422T125336
CREATED:20250122T235523Z
LAST-MODIFIED:20250528T140029Z
UID:10001760-1868832000-1868918399@phantomcanyon.com
SUMMARY:Military Thursdays
DESCRIPTION:We proudly offer active military and veterans a 20% DISCOUNT on food & drink. \n*Valid with military ID.
URL:https://phantomcanyon.com/event/military-thursdays/2029-03-22/
ATTACH;FMTTYPE=image/jpeg:https://phantomcanyon.com/wp-content/uploads/2025/01/event_military_thursdays.jpg
END:VEVENT
BEGIN:VEVENT
DTSTART;VALUE=DATE:20290325
DTEND;VALUE=DATE:20290326
DTSTAMP:20260422T125336
CREATED:20250123T165639Z
LAST-MODIFIED:20250123T165820Z
UID:10002021-1869091200-1869177599@phantomcanyon.com
SUMMARY:Happy Hour Sundays
DESCRIPTION:Join us for happy hour drink specials including $4 flagship pints of beer\, $5 well cocktails\, and $5 wine.  \nALL DAY SUNDAYS
URL:https://phantomcanyon.com/event/happy-hour-sundays/2029-03-25/
ATTACH;FMTTYPE=image/jpeg:https://phantomcanyon.com/wp-content/uploads/2025/01/happy_hour_sundays.jpg
END:VEVENT
BEGIN:VEVENT
DTSTART;VALUE=DATE:20290329
DTEND;VALUE=DATE:20290330
DTSTAMP:20260422T125336
CREATED:20250122T235523Z
LAST-MODIFIED:20250528T140029Z
UID:10001761-1869436800-1869523199@phantomcanyon.com
SUMMARY:Military Thursdays
DESCRIPTION:We proudly offer active military and veterans a 20% DISCOUNT on food & drink. \n*Valid with military ID.
URL:https://phantomcanyon.com/event/military-thursdays/2029-03-29/
ATTACH;FMTTYPE=image/jpeg:https://phantomcanyon.com/wp-content/uploads/2025/01/event_military_thursdays.jpg
END:VEVENT
BEGIN:VEVENT
DTSTART;VALUE=DATE:20290401
DTEND;VALUE=DATE:20290402
DTSTAMP:20260422T125336
CREATED:20250123T165639Z
LAST-MODIFIED:20250123T165820Z
UID:10002022-1869696000-1869782399@phantomcanyon.com
SUMMARY:Happy Hour Sundays
DESCRIPTION:Join us for happy hour drink specials including $4 flagship pints of beer\, $5 well cocktails\, and $5 wine.  \nALL DAY SUNDAYS
URL:https://phantomcanyon.com/event/happy-hour-sundays/2029-04-01/
ATTACH;FMTTYPE=image/jpeg:https://phantomcanyon.com/wp-content/uploads/2025/01/happy_hour_sundays.jpg
END:VEVENT
BEGIN:VEVENT
DTSTART;VALUE=DATE:20290405
DTEND;VALUE=DATE:20290406
DTSTAMP:20260422T125336
CREATED:20250122T235523Z
LAST-MODIFIED:20250528T140029Z
UID:10001762-1870041600-1870127999@phantomcanyon.com
SUMMARY:Military Thursdays
DESCRIPTION:We proudly offer active military and veterans a 20% DISCOUNT on food & drink. \n*Valid with military ID.
URL:https://phantomcanyon.com/event/military-thursdays/2029-04-05/
ATTACH;FMTTYPE=image/jpeg:https://phantomcanyon.com/wp-content/uploads/2025/01/event_military_thursdays.jpg
END:VEVENT
BEGIN:VEVENT
DTSTART;VALUE=DATE:20290408
DTEND;VALUE=DATE:20290409
DTSTAMP:20260422T125336
CREATED:20250123T165639Z
LAST-MODIFIED:20250123T165820Z
UID:10002023-1870300800-1870387199@phantomcanyon.com
SUMMARY:Happy Hour Sundays
DESCRIPTION:Join us for happy hour drink specials including $4 flagship pints of beer\, $5 well cocktails\, and $5 wine.  \nALL DAY SUNDAYS
URL:https://phantomcanyon.com/event/happy-hour-sundays/2029-04-08/
ATTACH;FMTTYPE=image/jpeg:https://phantomcanyon.com/wp-content/uploads/2025/01/happy_hour_sundays.jpg
END:VEVENT
BEGIN:VEVENT
DTSTART;VALUE=DATE:20290412
DTEND;VALUE=DATE:20290413
DTSTAMP:20260422T125336
CREATED:20250122T235523Z
LAST-MODIFIED:20250528T140029Z
UID:10001763-1870646400-1870732799@phantomcanyon.com
SUMMARY:Military Thursdays
DESCRIPTION:We proudly offer active military and veterans a 20% DISCOUNT on food & drink. \n*Valid with military ID.
URL:https://phantomcanyon.com/event/military-thursdays/2029-04-12/
ATTACH;FMTTYPE=image/jpeg:https://phantomcanyon.com/wp-content/uploads/2025/01/event_military_thursdays.jpg
END:VEVENT
BEGIN:VEVENT
DTSTART;VALUE=DATE:20290415
DTEND;VALUE=DATE:20290416
DTSTAMP:20260422T125336
CREATED:20250123T165639Z
LAST-MODIFIED:20250123T165820Z
UID:10002024-1870905600-1870991999@phantomcanyon.com
SUMMARY:Happy Hour Sundays
DESCRIPTION:Join us for happy hour drink specials including $4 flagship pints of beer\, $5 well cocktails\, and $5 wine.  \nALL DAY SUNDAYS
URL:https://phantomcanyon.com/event/happy-hour-sundays/2029-04-15/
ATTACH;FMTTYPE=image/jpeg:https://phantomcanyon.com/wp-content/uploads/2025/01/happy_hour_sundays.jpg
END:VEVENT
BEGIN:VEVENT
DTSTART;VALUE=DATE:20290419
DTEND;VALUE=DATE:20290420
DTSTAMP:20260422T125336
CREATED:20250122T235523Z
LAST-MODIFIED:20250528T140029Z
UID:10001764-1871251200-1871337599@phantomcanyon.com
SUMMARY:Military Thursdays
DESCRIPTION:We proudly offer active military and veterans a 20% DISCOUNT on food & drink. \n*Valid with military ID.
URL:https://phantomcanyon.com/event/military-thursdays/2029-04-19/
ATTACH;FMTTYPE=image/jpeg:https://phantomcanyon.com/wp-content/uploads/2025/01/event_military_thursdays.jpg
END:VEVENT
BEGIN:VEVENT
DTSTART;VALUE=DATE:20290422
DTEND;VALUE=DATE:20290423
DTSTAMP:20260422T125336
CREATED:20250123T165639Z
LAST-MODIFIED:20250123T165820Z
UID:10002025-1871510400-1871596799@phantomcanyon.com
SUMMARY:Happy Hour Sundays
DESCRIPTION:Join us for happy hour drink specials including $4 flagship pints of beer\, $5 well cocktails\, and $5 wine.  \nALL DAY SUNDAYS
URL:https://phantomcanyon.com/event/happy-hour-sundays/2029-04-22/
ATTACH;FMTTYPE=image/jpeg:https://phantomcanyon.com/wp-content/uploads/2025/01/happy_hour_sundays.jpg
END:VEVENT
BEGIN:VEVENT
DTSTART;VALUE=DATE:20290426
DTEND;VALUE=DATE:20290427
DTSTAMP:20260422T125336
CREATED:20250122T235523Z
LAST-MODIFIED:20250528T140029Z
UID:10001765-1871856000-1871942399@phantomcanyon.com
SUMMARY:Military Thursdays
DESCRIPTION:We proudly offer active military and veterans a 20% DISCOUNT on food & drink. \n*Valid with military ID.
URL:https://phantomcanyon.com/event/military-thursdays/2029-04-26/
ATTACH;FMTTYPE=image/jpeg:https://phantomcanyon.com/wp-content/uploads/2025/01/event_military_thursdays.jpg
END:VEVENT
BEGIN:VEVENT
DTSTART;VALUE=DATE:20290429
DTEND;VALUE=DATE:20290430
DTSTAMP:20260422T125336
CREATED:20250123T165639Z
LAST-MODIFIED:20250123T165820Z
UID:10002026-1872115200-1872201599@phantomcanyon.com
SUMMARY:Happy Hour Sundays
DESCRIPTION:Join us for happy hour drink specials including $4 flagship pints of beer\, $5 well cocktails\, and $5 wine.  \nALL DAY SUNDAYS
URL:https://phantomcanyon.com/event/happy-hour-sundays/2029-04-29/
ATTACH;FMTTYPE=image/jpeg:https://phantomcanyon.com/wp-content/uploads/2025/01/happy_hour_sundays.jpg
END:VEVENT
BEGIN:VEVENT
DTSTART;VALUE=DATE:20290503
DTEND;VALUE=DATE:20290504
DTSTAMP:20260422T125336
CREATED:20250122T235523Z
LAST-MODIFIED:20250528T140029Z
UID:10001766-1872460800-1872547199@phantomcanyon.com
SUMMARY:Military Thursdays
DESCRIPTION:We proudly offer active military and veterans a 20% DISCOUNT on food & drink. \n*Valid with military ID.
URL:https://phantomcanyon.com/event/military-thursdays/2029-05-03/
ATTACH;FMTTYPE=image/jpeg:https://phantomcanyon.com/wp-content/uploads/2025/01/event_military_thursdays.jpg
END:VEVENT
BEGIN:VEVENT
DTSTART;VALUE=DATE:20290506
DTEND;VALUE=DATE:20290507
DTSTAMP:20260422T125336
CREATED:20250123T165639Z
LAST-MODIFIED:20250123T165820Z
UID:10002027-1872720000-1872806399@phantomcanyon.com
SUMMARY:Happy Hour Sundays
DESCRIPTION:Join us for happy hour drink specials including $4 flagship pints of beer\, $5 well cocktails\, and $5 wine.  \nALL DAY SUNDAYS
URL:https://phantomcanyon.com/event/happy-hour-sundays/2029-05-06/
ATTACH;FMTTYPE=image/jpeg:https://phantomcanyon.com/wp-content/uploads/2025/01/happy_hour_sundays.jpg
END:VEVENT
BEGIN:VEVENT
DTSTART;VALUE=DATE:20290510
DTEND;VALUE=DATE:20290511
DTSTAMP:20260422T125336
CREATED:20250122T235523Z
LAST-MODIFIED:20250528T140029Z
UID:10001767-1873065600-1873151999@phantomcanyon.com
SUMMARY:Military Thursdays
DESCRIPTION:We proudly offer active military and veterans a 20% DISCOUNT on food & drink. \n*Valid with military ID.
URL:https://phantomcanyon.com/event/military-thursdays/2029-05-10/
ATTACH;FMTTYPE=image/jpeg:https://phantomcanyon.com/wp-content/uploads/2025/01/event_military_thursdays.jpg
END:VEVENT
BEGIN:VEVENT
DTSTART;VALUE=DATE:20290513
DTEND;VALUE=DATE:20290514
DTSTAMP:20260422T125336
CREATED:20250123T165639Z
LAST-MODIFIED:20250123T165820Z
UID:10002028-1873324800-1873411199@phantomcanyon.com
SUMMARY:Happy Hour Sundays
DESCRIPTION:Join us for happy hour drink specials including $4 flagship pints of beer\, $5 well cocktails\, and $5 wine.  \nALL DAY SUNDAYS
URL:https://phantomcanyon.com/event/happy-hour-sundays/2029-05-13/
ATTACH;FMTTYPE=image/jpeg:https://phantomcanyon.com/wp-content/uploads/2025/01/happy_hour_sundays.jpg
END:VEVENT
BEGIN:VEVENT
DTSTART;VALUE=DATE:20290517
DTEND;VALUE=DATE:20290518
DTSTAMP:20260422T125336
CREATED:20250122T235523Z
LAST-MODIFIED:20250528T140029Z
UID:10001768-1873670400-1873756799@phantomcanyon.com
SUMMARY:Military Thursdays
DESCRIPTION:We proudly offer active military and veterans a 20% DISCOUNT on food & drink. \n*Valid with military ID.
URL:https://phantomcanyon.com/event/military-thursdays/2029-05-17/
ATTACH;FMTTYPE=image/jpeg:https://phantomcanyon.com/wp-content/uploads/2025/01/event_military_thursdays.jpg
END:VEVENT
BEGIN:VEVENT
DTSTART;VALUE=DATE:20290520
DTEND;VALUE=DATE:20290521
DTSTAMP:20260422T125336
CREATED:20250123T165639Z
LAST-MODIFIED:20250123T165820Z
UID:10002029-1873929600-1874015999@phantomcanyon.com
SUMMARY:Happy Hour Sundays
DESCRIPTION:Join us for happy hour drink specials including $4 flagship pints of beer\, $5 well cocktails\, and $5 wine.  \nALL DAY SUNDAYS
URL:https://phantomcanyon.com/event/happy-hour-sundays/2029-05-20/
ATTACH;FMTTYPE=image/jpeg:https://phantomcanyon.com/wp-content/uploads/2025/01/happy_hour_sundays.jpg
END:VEVENT
BEGIN:VEVENT
DTSTART;VALUE=DATE:20290524
DTEND;VALUE=DATE:20290525
DTSTAMP:20260422T125336
CREATED:20250122T235523Z
LAST-MODIFIED:20250528T140029Z
UID:10001769-1874275200-1874361599@phantomcanyon.com
SUMMARY:Military Thursdays
DESCRIPTION:We proudly offer active military and veterans a 20% DISCOUNT on food & drink. \n*Valid with military ID.
URL:https://phantomcanyon.com/event/military-thursdays/2029-05-24/
ATTACH;FMTTYPE=image/jpeg:https://phantomcanyon.com/wp-content/uploads/2025/01/event_military_thursdays.jpg
END:VEVENT
BEGIN:VEVENT
DTSTART;VALUE=DATE:20290527
DTEND;VALUE=DATE:20290528
DTSTAMP:20260422T125336
CREATED:20250123T165639Z
LAST-MODIFIED:20250123T165820Z
UID:10002030-1874534400-1874620799@phantomcanyon.com
SUMMARY:Happy Hour Sundays
DESCRIPTION:Join us for happy hour drink specials including $4 flagship pints of beer\, $5 well cocktails\, and $5 wine.  \nALL DAY SUNDAYS
URL:https://phantomcanyon.com/event/happy-hour-sundays/2029-05-27/
ATTACH;FMTTYPE=image/jpeg:https://phantomcanyon.com/wp-content/uploads/2025/01/happy_hour_sundays.jpg
END:VEVENT
BEGIN:VEVENT
DTSTART;VALUE=DATE:20290531
DTEND;VALUE=DATE:20290601
DTSTAMP:20260422T125336
CREATED:20250122T235523Z
LAST-MODIFIED:20250528T140029Z
UID:10001770-1874880000-1874966399@phantomcanyon.com
SUMMARY:Military Thursdays
DESCRIPTION:We proudly offer active military and veterans a 20% DISCOUNT on food & drink. \n*Valid with military ID.
URL:https://phantomcanyon.com/event/military-thursdays/2029-05-31/
ATTACH;FMTTYPE=image/jpeg:https://phantomcanyon.com/wp-content/uploads/2025/01/event_military_thursdays.jpg
END:VEVENT
BEGIN:VEVENT
DTSTART;VALUE=DATE:20290603
DTEND;VALUE=DATE:20290604
DTSTAMP:20260422T125336
CREATED:20250123T165639Z
LAST-MODIFIED:20250123T165820Z
UID:10002031-1875139200-1875225599@phantomcanyon.com
SUMMARY:Happy Hour Sundays
DESCRIPTION:Join us for happy hour drink specials including $4 flagship pints of beer\, $5 well cocktails\, and $5 wine.  \nALL DAY SUNDAYS
URL:https://phantomcanyon.com/event/happy-hour-sundays/2029-06-03/
ATTACH;FMTTYPE=image/jpeg:https://phantomcanyon.com/wp-content/uploads/2025/01/happy_hour_sundays.jpg
END:VEVENT
BEGIN:VEVENT
DTSTART;VALUE=DATE:20290607
DTEND;VALUE=DATE:20290608
DTSTAMP:20260422T125336
CREATED:20250122T235523Z
LAST-MODIFIED:20250528T140029Z
UID:10001771-1875484800-1875571199@phantomcanyon.com
SUMMARY:Military Thursdays
DESCRIPTION:We proudly offer active military and veterans a 20% DISCOUNT on food & drink. \n*Valid with military ID.
URL:https://phantomcanyon.com/event/military-thursdays/2029-06-07/
ATTACH;FMTTYPE=image/jpeg:https://phantomcanyon.com/wp-content/uploads/2025/01/event_military_thursdays.jpg
END:VEVENT
END:VCALENDAR