BEGIN:VCALENDAR
VERSION:2.0
PRODID:-//Phantom Canyon Brewing Co. - ECPv6.15.20//NONSGML v1.0//EN
CALSCALE:GREGORIAN
METHOD:PUBLISH
X-WR-CALNAME:Phantom Canyon Brewing Co.
X-ORIGINAL-URL:https://phantomcanyon.com
X-WR-CALDESC:Events for Phantom Canyon Brewing Co.
REFRESH-INTERVAL;VALUE=DURATION:PT1H
X-Robots-Tag:noindex
X-PUBLISHED-TTL:PT1H
BEGIN:VTIMEZONE
TZID:America/Denver
BEGIN:DAYLIGHT
TZOFFSETFROM:-0700
TZOFFSETTO:-0600
TZNAME:MDT
DTSTART:20270314T090000
END:DAYLIGHT
BEGIN:STANDARD
TZOFFSETFROM:-0600
TZOFFSETTO:-0700
TZNAME:MST
DTSTART:20271107T080000
END:STANDARD
BEGIN:DAYLIGHT
TZOFFSETFROM:-0700
TZOFFSETTO:-0600
TZNAME:MDT
DTSTART:20280312T090000
END:DAYLIGHT
BEGIN:STANDARD
TZOFFSETFROM:-0600
TZOFFSETTO:-0700
TZNAME:MST
DTSTART:20281105T080000
END:STANDARD
BEGIN:DAYLIGHT
TZOFFSETFROM:-0700
TZOFFSETTO:-0600
TZNAME:MDT
DTSTART:20290311T090000
END:DAYLIGHT
BEGIN:STANDARD
TZOFFSETFROM:-0600
TZOFFSETTO:-0700
TZNAME:MST
DTSTART:20291104T080000
END:STANDARD
END:VTIMEZONE
BEGIN:VEVENT
DTSTART;VALUE=DATE:20280618
DTEND;VALUE=DATE:20280619
DTSTAMP:20260422T040627
CREATED:20250123T165639Z
LAST-MODIFIED:20250123T165820Z
UID:10001981-1844899200-1844985599@phantomcanyon.com
SUMMARY:Happy Hour Sundays
DESCRIPTION:Join us for happy hour drink specials including $4 flagship pints of beer\, $5 well cocktails\, and $5 wine.  \nALL DAY SUNDAYS
URL:https://phantomcanyon.com/event/happy-hour-sundays/2028-06-18/
ATTACH;FMTTYPE=image/jpeg:https://phantomcanyon.com/wp-content/uploads/2025/01/happy_hour_sundays.jpg
END:VEVENT
BEGIN:VEVENT
DTSTART;VALUE=DATE:20280622
DTEND;VALUE=DATE:20280623
DTSTAMP:20260422T040627
CREATED:20250122T235523Z
LAST-MODIFIED:20250528T140029Z
UID:10001721-1845244800-1845331199@phantomcanyon.com
SUMMARY:Military Thursdays
DESCRIPTION:We proudly offer active military and veterans a 20% DISCOUNT on food & drink. \n*Valid with military ID.
URL:https://phantomcanyon.com/event/military-thursdays/2028-06-22/
ATTACH;FMTTYPE=image/jpeg:https://phantomcanyon.com/wp-content/uploads/2025/01/event_military_thursdays.jpg
END:VEVENT
BEGIN:VEVENT
DTSTART;VALUE=DATE:20280625
DTEND;VALUE=DATE:20280626
DTSTAMP:20260422T040627
CREATED:20250123T165639Z
LAST-MODIFIED:20250123T165820Z
UID:10001982-1845504000-1845590399@phantomcanyon.com
SUMMARY:Happy Hour Sundays
DESCRIPTION:Join us for happy hour drink specials including $4 flagship pints of beer\, $5 well cocktails\, and $5 wine.  \nALL DAY SUNDAYS
URL:https://phantomcanyon.com/event/happy-hour-sundays/2028-06-25/
ATTACH;FMTTYPE=image/jpeg:https://phantomcanyon.com/wp-content/uploads/2025/01/happy_hour_sundays.jpg
END:VEVENT
BEGIN:VEVENT
DTSTART;VALUE=DATE:20280629
DTEND;VALUE=DATE:20280630
DTSTAMP:20260422T040627
CREATED:20250122T235523Z
LAST-MODIFIED:20250528T140029Z
UID:10001722-1845849600-1845935999@phantomcanyon.com
SUMMARY:Military Thursdays
DESCRIPTION:We proudly offer active military and veterans a 20% DISCOUNT on food & drink. \n*Valid with military ID.
URL:https://phantomcanyon.com/event/military-thursdays/2028-06-29/
ATTACH;FMTTYPE=image/jpeg:https://phantomcanyon.com/wp-content/uploads/2025/01/event_military_thursdays.jpg
END:VEVENT
BEGIN:VEVENT
DTSTART;VALUE=DATE:20280702
DTEND;VALUE=DATE:20280703
DTSTAMP:20260422T040627
CREATED:20250123T165639Z
LAST-MODIFIED:20250123T165820Z
UID:10001983-1846108800-1846195199@phantomcanyon.com
SUMMARY:Happy Hour Sundays
DESCRIPTION:Join us for happy hour drink specials including $4 flagship pints of beer\, $5 well cocktails\, and $5 wine.  \nALL DAY SUNDAYS
URL:https://phantomcanyon.com/event/happy-hour-sundays/2028-07-02/
ATTACH;FMTTYPE=image/jpeg:https://phantomcanyon.com/wp-content/uploads/2025/01/happy_hour_sundays.jpg
END:VEVENT
BEGIN:VEVENT
DTSTART;VALUE=DATE:20280706
DTEND;VALUE=DATE:20280707
DTSTAMP:20260422T040627
CREATED:20250122T235523Z
LAST-MODIFIED:20250528T140029Z
UID:10001723-1846454400-1846540799@phantomcanyon.com
SUMMARY:Military Thursdays
DESCRIPTION:We proudly offer active military and veterans a 20% DISCOUNT on food & drink. \n*Valid with military ID.
URL:https://phantomcanyon.com/event/military-thursdays/2028-07-06/
ATTACH;FMTTYPE=image/jpeg:https://phantomcanyon.com/wp-content/uploads/2025/01/event_military_thursdays.jpg
END:VEVENT
BEGIN:VEVENT
DTSTART;VALUE=DATE:20280709
DTEND;VALUE=DATE:20280710
DTSTAMP:20260422T040627
CREATED:20250123T165639Z
LAST-MODIFIED:20250123T165820Z
UID:10001984-1846713600-1846799999@phantomcanyon.com
SUMMARY:Happy Hour Sundays
DESCRIPTION:Join us for happy hour drink specials including $4 flagship pints of beer\, $5 well cocktails\, and $5 wine.  \nALL DAY SUNDAYS
URL:https://phantomcanyon.com/event/happy-hour-sundays/2028-07-09/
ATTACH;FMTTYPE=image/jpeg:https://phantomcanyon.com/wp-content/uploads/2025/01/happy_hour_sundays.jpg
END:VEVENT
BEGIN:VEVENT
DTSTART;VALUE=DATE:20280713
DTEND;VALUE=DATE:20280714
DTSTAMP:20260422T040627
CREATED:20250122T235523Z
LAST-MODIFIED:20250528T140029Z
UID:10001724-1847059200-1847145599@phantomcanyon.com
SUMMARY:Military Thursdays
DESCRIPTION:We proudly offer active military and veterans a 20% DISCOUNT on food & drink. \n*Valid with military ID.
URL:https://phantomcanyon.com/event/military-thursdays/2028-07-13/
ATTACH;FMTTYPE=image/jpeg:https://phantomcanyon.com/wp-content/uploads/2025/01/event_military_thursdays.jpg
END:VEVENT
BEGIN:VEVENT
DTSTART;VALUE=DATE:20280716
DTEND;VALUE=DATE:20280717
DTSTAMP:20260422T040627
CREATED:20250123T165639Z
LAST-MODIFIED:20250123T165820Z
UID:10001985-1847318400-1847404799@phantomcanyon.com
SUMMARY:Happy Hour Sundays
DESCRIPTION:Join us for happy hour drink specials including $4 flagship pints of beer\, $5 well cocktails\, and $5 wine.  \nALL DAY SUNDAYS
URL:https://phantomcanyon.com/event/happy-hour-sundays/2028-07-16/
ATTACH;FMTTYPE=image/jpeg:https://phantomcanyon.com/wp-content/uploads/2025/01/happy_hour_sundays.jpg
END:VEVENT
BEGIN:VEVENT
DTSTART;VALUE=DATE:20280720
DTEND;VALUE=DATE:20280721
DTSTAMP:20260422T040627
CREATED:20250122T235523Z
LAST-MODIFIED:20250528T140029Z
UID:10001725-1847664000-1847750399@phantomcanyon.com
SUMMARY:Military Thursdays
DESCRIPTION:We proudly offer active military and veterans a 20% DISCOUNT on food & drink. \n*Valid with military ID.
URL:https://phantomcanyon.com/event/military-thursdays/2028-07-20/
ATTACH;FMTTYPE=image/jpeg:https://phantomcanyon.com/wp-content/uploads/2025/01/event_military_thursdays.jpg
END:VEVENT
BEGIN:VEVENT
DTSTART;VALUE=DATE:20280723
DTEND;VALUE=DATE:20280724
DTSTAMP:20260422T040627
CREATED:20250123T165639Z
LAST-MODIFIED:20250123T165820Z
UID:10001986-1847923200-1848009599@phantomcanyon.com
SUMMARY:Happy Hour Sundays
DESCRIPTION:Join us for happy hour drink specials including $4 flagship pints of beer\, $5 well cocktails\, and $5 wine.  \nALL DAY SUNDAYS
URL:https://phantomcanyon.com/event/happy-hour-sundays/2028-07-23/
ATTACH;FMTTYPE=image/jpeg:https://phantomcanyon.com/wp-content/uploads/2025/01/happy_hour_sundays.jpg
END:VEVENT
BEGIN:VEVENT
DTSTART;VALUE=DATE:20280727
DTEND;VALUE=DATE:20280728
DTSTAMP:20260422T040627
CREATED:20250122T235523Z
LAST-MODIFIED:20250528T140029Z
UID:10001726-1848268800-1848355199@phantomcanyon.com
SUMMARY:Military Thursdays
DESCRIPTION:We proudly offer active military and veterans a 20% DISCOUNT on food & drink. \n*Valid with military ID.
URL:https://phantomcanyon.com/event/military-thursdays/2028-07-27/
ATTACH;FMTTYPE=image/jpeg:https://phantomcanyon.com/wp-content/uploads/2025/01/event_military_thursdays.jpg
END:VEVENT
BEGIN:VEVENT
DTSTART;VALUE=DATE:20280730
DTEND;VALUE=DATE:20280731
DTSTAMP:20260422T040627
CREATED:20250123T165639Z
LAST-MODIFIED:20250123T165820Z
UID:10001987-1848528000-1848614399@phantomcanyon.com
SUMMARY:Happy Hour Sundays
DESCRIPTION:Join us for happy hour drink specials including $4 flagship pints of beer\, $5 well cocktails\, and $5 wine.  \nALL DAY SUNDAYS
URL:https://phantomcanyon.com/event/happy-hour-sundays/2028-07-30/
ATTACH;FMTTYPE=image/jpeg:https://phantomcanyon.com/wp-content/uploads/2025/01/happy_hour_sundays.jpg
END:VEVENT
BEGIN:VEVENT
DTSTART;VALUE=DATE:20280803
DTEND;VALUE=DATE:20280804
DTSTAMP:20260422T040627
CREATED:20250122T235523Z
LAST-MODIFIED:20250528T140029Z
UID:10001727-1848873600-1848959999@phantomcanyon.com
SUMMARY:Military Thursdays
DESCRIPTION:We proudly offer active military and veterans a 20% DISCOUNT on food & drink. \n*Valid with military ID.
URL:https://phantomcanyon.com/event/military-thursdays/2028-08-03/
ATTACH;FMTTYPE=image/jpeg:https://phantomcanyon.com/wp-content/uploads/2025/01/event_military_thursdays.jpg
END:VEVENT
BEGIN:VEVENT
DTSTART;VALUE=DATE:20280806
DTEND;VALUE=DATE:20280807
DTSTAMP:20260422T040627
CREATED:20250123T165639Z
LAST-MODIFIED:20250123T165820Z
UID:10001988-1849132800-1849219199@phantomcanyon.com
SUMMARY:Happy Hour Sundays
DESCRIPTION:Join us for happy hour drink specials including $4 flagship pints of beer\, $5 well cocktails\, and $5 wine.  \nALL DAY SUNDAYS
URL:https://phantomcanyon.com/event/happy-hour-sundays/2028-08-06/
ATTACH;FMTTYPE=image/jpeg:https://phantomcanyon.com/wp-content/uploads/2025/01/happy_hour_sundays.jpg
END:VEVENT
BEGIN:VEVENT
DTSTART;VALUE=DATE:20280810
DTEND;VALUE=DATE:20280811
DTSTAMP:20260422T040627
CREATED:20250122T235523Z
LAST-MODIFIED:20250528T140029Z
UID:10001728-1849478400-1849564799@phantomcanyon.com
SUMMARY:Military Thursdays
DESCRIPTION:We proudly offer active military and veterans a 20% DISCOUNT on food & drink. \n*Valid with military ID.
URL:https://phantomcanyon.com/event/military-thursdays/2028-08-10/
ATTACH;FMTTYPE=image/jpeg:https://phantomcanyon.com/wp-content/uploads/2025/01/event_military_thursdays.jpg
END:VEVENT
BEGIN:VEVENT
DTSTART;VALUE=DATE:20280813
DTEND;VALUE=DATE:20280814
DTSTAMP:20260422T040627
CREATED:20250123T165639Z
LAST-MODIFIED:20250123T165820Z
UID:10001989-1849737600-1849823999@phantomcanyon.com
SUMMARY:Happy Hour Sundays
DESCRIPTION:Join us for happy hour drink specials including $4 flagship pints of beer\, $5 well cocktails\, and $5 wine.  \nALL DAY SUNDAYS
URL:https://phantomcanyon.com/event/happy-hour-sundays/2028-08-13/
ATTACH;FMTTYPE=image/jpeg:https://phantomcanyon.com/wp-content/uploads/2025/01/happy_hour_sundays.jpg
END:VEVENT
BEGIN:VEVENT
DTSTART;VALUE=DATE:20280817
DTEND;VALUE=DATE:20280818
DTSTAMP:20260422T040627
CREATED:20250122T235523Z
LAST-MODIFIED:20250528T140029Z
UID:10001729-1850083200-1850169599@phantomcanyon.com
SUMMARY:Military Thursdays
DESCRIPTION:We proudly offer active military and veterans a 20% DISCOUNT on food & drink. \n*Valid with military ID.
URL:https://phantomcanyon.com/event/military-thursdays/2028-08-17/
ATTACH;FMTTYPE=image/jpeg:https://phantomcanyon.com/wp-content/uploads/2025/01/event_military_thursdays.jpg
END:VEVENT
BEGIN:VEVENT
DTSTART;VALUE=DATE:20280820
DTEND;VALUE=DATE:20280821
DTSTAMP:20260422T040627
CREATED:20250123T165639Z
LAST-MODIFIED:20250123T165820Z
UID:10001990-1850342400-1850428799@phantomcanyon.com
SUMMARY:Happy Hour Sundays
DESCRIPTION:Join us for happy hour drink specials including $4 flagship pints of beer\, $5 well cocktails\, and $5 wine.  \nALL DAY SUNDAYS
URL:https://phantomcanyon.com/event/happy-hour-sundays/2028-08-20/
ATTACH;FMTTYPE=image/jpeg:https://phantomcanyon.com/wp-content/uploads/2025/01/happy_hour_sundays.jpg
END:VEVENT
BEGIN:VEVENT
DTSTART;VALUE=DATE:20280824
DTEND;VALUE=DATE:20280825
DTSTAMP:20260422T040627
CREATED:20250122T235523Z
LAST-MODIFIED:20250528T140029Z
UID:10001730-1850688000-1850774399@phantomcanyon.com
SUMMARY:Military Thursdays
DESCRIPTION:We proudly offer active military and veterans a 20% DISCOUNT on food & drink. \n*Valid with military ID.
URL:https://phantomcanyon.com/event/military-thursdays/2028-08-24/
ATTACH;FMTTYPE=image/jpeg:https://phantomcanyon.com/wp-content/uploads/2025/01/event_military_thursdays.jpg
END:VEVENT
BEGIN:VEVENT
DTSTART;VALUE=DATE:20280827
DTEND;VALUE=DATE:20280828
DTSTAMP:20260422T040627
CREATED:20250123T165639Z
LAST-MODIFIED:20250123T165820Z
UID:10001991-1850947200-1851033599@phantomcanyon.com
SUMMARY:Happy Hour Sundays
DESCRIPTION:Join us for happy hour drink specials including $4 flagship pints of beer\, $5 well cocktails\, and $5 wine.  \nALL DAY SUNDAYS
URL:https://phantomcanyon.com/event/happy-hour-sundays/2028-08-27/
ATTACH;FMTTYPE=image/jpeg:https://phantomcanyon.com/wp-content/uploads/2025/01/happy_hour_sundays.jpg
END:VEVENT
BEGIN:VEVENT
DTSTART;VALUE=DATE:20280831
DTEND;VALUE=DATE:20280901
DTSTAMP:20260422T040627
CREATED:20250122T235523Z
LAST-MODIFIED:20250528T140029Z
UID:10001731-1851292800-1851379199@phantomcanyon.com
SUMMARY:Military Thursdays
DESCRIPTION:We proudly offer active military and veterans a 20% DISCOUNT on food & drink. \n*Valid with military ID.
URL:https://phantomcanyon.com/event/military-thursdays/2028-08-31/
ATTACH;FMTTYPE=image/jpeg:https://phantomcanyon.com/wp-content/uploads/2025/01/event_military_thursdays.jpg
END:VEVENT
BEGIN:VEVENT
DTSTART;VALUE=DATE:20280903
DTEND;VALUE=DATE:20280904
DTSTAMP:20260422T040627
CREATED:20250123T165639Z
LAST-MODIFIED:20250123T165820Z
UID:10001992-1851552000-1851638399@phantomcanyon.com
SUMMARY:Happy Hour Sundays
DESCRIPTION:Join us for happy hour drink specials including $4 flagship pints of beer\, $5 well cocktails\, and $5 wine.  \nALL DAY SUNDAYS
URL:https://phantomcanyon.com/event/happy-hour-sundays/2028-09-03/
ATTACH;FMTTYPE=image/jpeg:https://phantomcanyon.com/wp-content/uploads/2025/01/happy_hour_sundays.jpg
END:VEVENT
BEGIN:VEVENT
DTSTART;VALUE=DATE:20280907
DTEND;VALUE=DATE:20280908
DTSTAMP:20260422T040627
CREATED:20250122T235523Z
LAST-MODIFIED:20250528T140029Z
UID:10001732-1851897600-1851983999@phantomcanyon.com
SUMMARY:Military Thursdays
DESCRIPTION:We proudly offer active military and veterans a 20% DISCOUNT on food & drink. \n*Valid with military ID.
URL:https://phantomcanyon.com/event/military-thursdays/2028-09-07/
ATTACH;FMTTYPE=image/jpeg:https://phantomcanyon.com/wp-content/uploads/2025/01/event_military_thursdays.jpg
END:VEVENT
BEGIN:VEVENT
DTSTART;VALUE=DATE:20280910
DTEND;VALUE=DATE:20280911
DTSTAMP:20260422T040627
CREATED:20250123T165639Z
LAST-MODIFIED:20250123T165820Z
UID:10001993-1852156800-1852243199@phantomcanyon.com
SUMMARY:Happy Hour Sundays
DESCRIPTION:Join us for happy hour drink specials including $4 flagship pints of beer\, $5 well cocktails\, and $5 wine.  \nALL DAY SUNDAYS
URL:https://phantomcanyon.com/event/happy-hour-sundays/2028-09-10/
ATTACH;FMTTYPE=image/jpeg:https://phantomcanyon.com/wp-content/uploads/2025/01/happy_hour_sundays.jpg
END:VEVENT
BEGIN:VEVENT
DTSTART;VALUE=DATE:20280914
DTEND;VALUE=DATE:20280915
DTSTAMP:20260422T040627
CREATED:20250122T235523Z
LAST-MODIFIED:20250528T140029Z
UID:10001733-1852502400-1852588799@phantomcanyon.com
SUMMARY:Military Thursdays
DESCRIPTION:We proudly offer active military and veterans a 20% DISCOUNT on food & drink. \n*Valid with military ID.
URL:https://phantomcanyon.com/event/military-thursdays/2028-09-14/
ATTACH;FMTTYPE=image/jpeg:https://phantomcanyon.com/wp-content/uploads/2025/01/event_military_thursdays.jpg
END:VEVENT
BEGIN:VEVENT
DTSTART;VALUE=DATE:20280917
DTEND;VALUE=DATE:20280918
DTSTAMP:20260422T040627
CREATED:20250123T165639Z
LAST-MODIFIED:20250123T165820Z
UID:10001994-1852761600-1852847999@phantomcanyon.com
SUMMARY:Happy Hour Sundays
DESCRIPTION:Join us for happy hour drink specials including $4 flagship pints of beer\, $5 well cocktails\, and $5 wine.  \nALL DAY SUNDAYS
URL:https://phantomcanyon.com/event/happy-hour-sundays/2028-09-17/
ATTACH;FMTTYPE=image/jpeg:https://phantomcanyon.com/wp-content/uploads/2025/01/happy_hour_sundays.jpg
END:VEVENT
BEGIN:VEVENT
DTSTART;VALUE=DATE:20280921
DTEND;VALUE=DATE:20280922
DTSTAMP:20260422T040627
CREATED:20250122T235523Z
LAST-MODIFIED:20250528T140029Z
UID:10001734-1853107200-1853193599@phantomcanyon.com
SUMMARY:Military Thursdays
DESCRIPTION:We proudly offer active military and veterans a 20% DISCOUNT on food & drink. \n*Valid with military ID.
URL:https://phantomcanyon.com/event/military-thursdays/2028-09-21/
ATTACH;FMTTYPE=image/jpeg:https://phantomcanyon.com/wp-content/uploads/2025/01/event_military_thursdays.jpg
END:VEVENT
BEGIN:VEVENT
DTSTART;VALUE=DATE:20280924
DTEND;VALUE=DATE:20280925
DTSTAMP:20260422T040627
CREATED:20250123T165639Z
LAST-MODIFIED:20250123T165820Z
UID:10001995-1853366400-1853452799@phantomcanyon.com
SUMMARY:Happy Hour Sundays
DESCRIPTION:Join us for happy hour drink specials including $4 flagship pints of beer\, $5 well cocktails\, and $5 wine.  \nALL DAY SUNDAYS
URL:https://phantomcanyon.com/event/happy-hour-sundays/2028-09-24/
ATTACH;FMTTYPE=image/jpeg:https://phantomcanyon.com/wp-content/uploads/2025/01/happy_hour_sundays.jpg
END:VEVENT
BEGIN:VEVENT
DTSTART;VALUE=DATE:20280928
DTEND;VALUE=DATE:20280929
DTSTAMP:20260422T040627
CREATED:20250122T235523Z
LAST-MODIFIED:20250528T140029Z
UID:10001735-1853712000-1853798399@phantomcanyon.com
SUMMARY:Military Thursdays
DESCRIPTION:We proudly offer active military and veterans a 20% DISCOUNT on food & drink. \n*Valid with military ID.
URL:https://phantomcanyon.com/event/military-thursdays/2028-09-28/
ATTACH;FMTTYPE=image/jpeg:https://phantomcanyon.com/wp-content/uploads/2025/01/event_military_thursdays.jpg
END:VEVENT
END:VCALENDAR