BEGIN:VCALENDAR
VERSION:2.0
PRODID:-//Phantom Canyon Brewing Co. - ECPv6.15.20//NONSGML v1.0//EN
CALSCALE:GREGORIAN
METHOD:PUBLISH
X-ORIGINAL-URL:https://phantomcanyon.com
X-WR-CALDESC:Events for Phantom Canyon Brewing Co.
REFRESH-INTERVAL;VALUE=DURATION:PT1H
X-Robots-Tag:noindex
X-PUBLISHED-TTL:PT1H
BEGIN:VTIMEZONE
TZID:America/Denver
BEGIN:DAYLIGHT
TZOFFSETFROM:-0700
TZOFFSETTO:-0600
TZNAME:MDT
DTSTART:20270314T090000
END:DAYLIGHT
BEGIN:STANDARD
TZOFFSETFROM:-0600
TZOFFSETTO:-0700
TZNAME:MST
DTSTART:20271107T080000
END:STANDARD
BEGIN:DAYLIGHT
TZOFFSETFROM:-0700
TZOFFSETTO:-0600
TZNAME:MDT
DTSTART:20280312T090000
END:DAYLIGHT
BEGIN:STANDARD
TZOFFSETFROM:-0600
TZOFFSETTO:-0700
TZNAME:MST
DTSTART:20281105T080000
END:STANDARD
BEGIN:DAYLIGHT
TZOFFSETFROM:-0700
TZOFFSETTO:-0600
TZNAME:MDT
DTSTART:20290311T090000
END:DAYLIGHT
BEGIN:STANDARD
TZOFFSETFROM:-0600
TZOFFSETTO:-0700
TZNAME:MST
DTSTART:20291104T080000
END:STANDARD
END:VTIMEZONE
BEGIN:VEVENT
DTSTART;VALUE=DATE:20280213
DTEND;VALUE=DATE:20280214
DTSTAMP:20260421T232350
CREATED:20250123T165639Z
LAST-MODIFIED:20250123T165820Z
UID:10001963-1834012800-1834099199@phantomcanyon.com
SUMMARY:Happy Hour Sundays
DESCRIPTION:Join us for happy hour drink specials including $4 flagship pints of beer\, $5 well cocktails\, and $5 wine.  \nALL DAY SUNDAYS
URL:https://phantomcanyon.com/event/happy-hour-sundays/2028-02-13/
ATTACH;FMTTYPE=image/jpeg:https://phantomcanyon.com/wp-content/uploads/2025/01/happy_hour_sundays.jpg
END:VEVENT
BEGIN:VEVENT
DTSTART;VALUE=DATE:20280217
DTEND;VALUE=DATE:20280218
DTSTAMP:20260421T232350
CREATED:20250122T235523Z
LAST-MODIFIED:20250528T140029Z
UID:10001703-1834358400-1834444799@phantomcanyon.com
SUMMARY:Military Thursdays
DESCRIPTION:We proudly offer active military and veterans a 20% DISCOUNT on food & drink. \n*Valid with military ID.
URL:https://phantomcanyon.com/event/military-thursdays/2028-02-17/
ATTACH;FMTTYPE=image/jpeg:https://phantomcanyon.com/wp-content/uploads/2025/01/event_military_thursdays.jpg
END:VEVENT
BEGIN:VEVENT
DTSTART;VALUE=DATE:20280220
DTEND;VALUE=DATE:20280221
DTSTAMP:20260421T232350
CREATED:20250123T165639Z
LAST-MODIFIED:20250123T165820Z
UID:10001964-1834617600-1834703999@phantomcanyon.com
SUMMARY:Happy Hour Sundays
DESCRIPTION:Join us for happy hour drink specials including $4 flagship pints of beer\, $5 well cocktails\, and $5 wine.  \nALL DAY SUNDAYS
URL:https://phantomcanyon.com/event/happy-hour-sundays/2028-02-20/
ATTACH;FMTTYPE=image/jpeg:https://phantomcanyon.com/wp-content/uploads/2025/01/happy_hour_sundays.jpg
END:VEVENT
BEGIN:VEVENT
DTSTART;VALUE=DATE:20280224
DTEND;VALUE=DATE:20280225
DTSTAMP:20260421T232350
CREATED:20250122T235523Z
LAST-MODIFIED:20250528T140029Z
UID:10001704-1834963200-1835049599@phantomcanyon.com
SUMMARY:Military Thursdays
DESCRIPTION:We proudly offer active military and veterans a 20% DISCOUNT on food & drink. \n*Valid with military ID.
URL:https://phantomcanyon.com/event/military-thursdays/2028-02-24/
ATTACH;FMTTYPE=image/jpeg:https://phantomcanyon.com/wp-content/uploads/2025/01/event_military_thursdays.jpg
END:VEVENT
BEGIN:VEVENT
DTSTART;VALUE=DATE:20280227
DTEND;VALUE=DATE:20280228
DTSTAMP:20260421T232350
CREATED:20250123T165639Z
LAST-MODIFIED:20250123T165820Z
UID:10001965-1835222400-1835308799@phantomcanyon.com
SUMMARY:Happy Hour Sundays
DESCRIPTION:Join us for happy hour drink specials including $4 flagship pints of beer\, $5 well cocktails\, and $5 wine.  \nALL DAY SUNDAYS
URL:https://phantomcanyon.com/event/happy-hour-sundays/2028-02-27/
ATTACH;FMTTYPE=image/jpeg:https://phantomcanyon.com/wp-content/uploads/2025/01/happy_hour_sundays.jpg
END:VEVENT
BEGIN:VEVENT
DTSTART;VALUE=DATE:20280302
DTEND;VALUE=DATE:20280303
DTSTAMP:20260421T232350
CREATED:20250122T235523Z
LAST-MODIFIED:20250528T140029Z
UID:10001705-1835568000-1835654399@phantomcanyon.com
SUMMARY:Military Thursdays
DESCRIPTION:We proudly offer active military and veterans a 20% DISCOUNT on food & drink. \n*Valid with military ID.
URL:https://phantomcanyon.com/event/military-thursdays/2028-03-02/
ATTACH;FMTTYPE=image/jpeg:https://phantomcanyon.com/wp-content/uploads/2025/01/event_military_thursdays.jpg
END:VEVENT
BEGIN:VEVENT
DTSTART;VALUE=DATE:20280305
DTEND;VALUE=DATE:20280306
DTSTAMP:20260421T232350
CREATED:20250123T165639Z
LAST-MODIFIED:20250123T165820Z
UID:10001966-1835827200-1835913599@phantomcanyon.com
SUMMARY:Happy Hour Sundays
DESCRIPTION:Join us for happy hour drink specials including $4 flagship pints of beer\, $5 well cocktails\, and $5 wine.  \nALL DAY SUNDAYS
URL:https://phantomcanyon.com/event/happy-hour-sundays/2028-03-05/
ATTACH;FMTTYPE=image/jpeg:https://phantomcanyon.com/wp-content/uploads/2025/01/happy_hour_sundays.jpg
END:VEVENT
BEGIN:VEVENT
DTSTART;VALUE=DATE:20280309
DTEND;VALUE=DATE:20280310
DTSTAMP:20260421T232350
CREATED:20250122T235523Z
LAST-MODIFIED:20250528T140029Z
UID:10001706-1836172800-1836259199@phantomcanyon.com
SUMMARY:Military Thursdays
DESCRIPTION:We proudly offer active military and veterans a 20% DISCOUNT on food & drink. \n*Valid with military ID.
URL:https://phantomcanyon.com/event/military-thursdays/2028-03-09/
ATTACH;FMTTYPE=image/jpeg:https://phantomcanyon.com/wp-content/uploads/2025/01/event_military_thursdays.jpg
END:VEVENT
BEGIN:VEVENT
DTSTART;VALUE=DATE:20280312
DTEND;VALUE=DATE:20280313
DTSTAMP:20260421T232350
CREATED:20250123T165639Z
LAST-MODIFIED:20250123T165820Z
UID:10001967-1836432000-1836518399@phantomcanyon.com
SUMMARY:Happy Hour Sundays
DESCRIPTION:Join us for happy hour drink specials including $4 flagship pints of beer\, $5 well cocktails\, and $5 wine.  \nALL DAY SUNDAYS
URL:https://phantomcanyon.com/event/happy-hour-sundays/2028-03-12/
ATTACH;FMTTYPE=image/jpeg:https://phantomcanyon.com/wp-content/uploads/2025/01/happy_hour_sundays.jpg
END:VEVENT
BEGIN:VEVENT
DTSTART;VALUE=DATE:20280316
DTEND;VALUE=DATE:20280317
DTSTAMP:20260421T232350
CREATED:20250122T235523Z
LAST-MODIFIED:20250528T140029Z
UID:10001707-1836777600-1836863999@phantomcanyon.com
SUMMARY:Military Thursdays
DESCRIPTION:We proudly offer active military and veterans a 20% DISCOUNT on food & drink. \n*Valid with military ID.
URL:https://phantomcanyon.com/event/military-thursdays/2028-03-16/
ATTACH;FMTTYPE=image/jpeg:https://phantomcanyon.com/wp-content/uploads/2025/01/event_military_thursdays.jpg
END:VEVENT
BEGIN:VEVENT
DTSTART;VALUE=DATE:20280319
DTEND;VALUE=DATE:20280320
DTSTAMP:20260421T232350
CREATED:20250123T165639Z
LAST-MODIFIED:20250123T165820Z
UID:10001968-1837036800-1837123199@phantomcanyon.com
SUMMARY:Happy Hour Sundays
DESCRIPTION:Join us for happy hour drink specials including $4 flagship pints of beer\, $5 well cocktails\, and $5 wine.  \nALL DAY SUNDAYS
URL:https://phantomcanyon.com/event/happy-hour-sundays/2028-03-19/
ATTACH;FMTTYPE=image/jpeg:https://phantomcanyon.com/wp-content/uploads/2025/01/happy_hour_sundays.jpg
END:VEVENT
BEGIN:VEVENT
DTSTART;VALUE=DATE:20280323
DTEND;VALUE=DATE:20280324
DTSTAMP:20260421T232350
CREATED:20250122T235523Z
LAST-MODIFIED:20250528T140029Z
UID:10001708-1837382400-1837468799@phantomcanyon.com
SUMMARY:Military Thursdays
DESCRIPTION:We proudly offer active military and veterans a 20% DISCOUNT on food & drink. \n*Valid with military ID.
URL:https://phantomcanyon.com/event/military-thursdays/2028-03-23/
ATTACH;FMTTYPE=image/jpeg:https://phantomcanyon.com/wp-content/uploads/2025/01/event_military_thursdays.jpg
END:VEVENT
BEGIN:VEVENT
DTSTART;VALUE=DATE:20280326
DTEND;VALUE=DATE:20280327
DTSTAMP:20260421T232350
CREATED:20250123T165639Z
LAST-MODIFIED:20250123T165820Z
UID:10001969-1837641600-1837727999@phantomcanyon.com
SUMMARY:Happy Hour Sundays
DESCRIPTION:Join us for happy hour drink specials including $4 flagship pints of beer\, $5 well cocktails\, and $5 wine.  \nALL DAY SUNDAYS
URL:https://phantomcanyon.com/event/happy-hour-sundays/2028-03-26/
ATTACH;FMTTYPE=image/jpeg:https://phantomcanyon.com/wp-content/uploads/2025/01/happy_hour_sundays.jpg
END:VEVENT
BEGIN:VEVENT
DTSTART;VALUE=DATE:20280330
DTEND;VALUE=DATE:20280331
DTSTAMP:20260421T232350
CREATED:20250122T235523Z
LAST-MODIFIED:20250528T140029Z
UID:10001709-1837987200-1838073599@phantomcanyon.com
SUMMARY:Military Thursdays
DESCRIPTION:We proudly offer active military and veterans a 20% DISCOUNT on food & drink. \n*Valid with military ID.
URL:https://phantomcanyon.com/event/military-thursdays/2028-03-30/
ATTACH;FMTTYPE=image/jpeg:https://phantomcanyon.com/wp-content/uploads/2025/01/event_military_thursdays.jpg
END:VEVENT
BEGIN:VEVENT
DTSTART;VALUE=DATE:20280402
DTEND;VALUE=DATE:20280403
DTSTAMP:20260421T232350
CREATED:20250123T165639Z
LAST-MODIFIED:20250123T165820Z
UID:10001970-1838246400-1838332799@phantomcanyon.com
SUMMARY:Happy Hour Sundays
DESCRIPTION:Join us for happy hour drink specials including $4 flagship pints of beer\, $5 well cocktails\, and $5 wine.  \nALL DAY SUNDAYS
URL:https://phantomcanyon.com/event/happy-hour-sundays/2028-04-02/
ATTACH;FMTTYPE=image/jpeg:https://phantomcanyon.com/wp-content/uploads/2025/01/happy_hour_sundays.jpg
END:VEVENT
BEGIN:VEVENT
DTSTART;VALUE=DATE:20280406
DTEND;VALUE=DATE:20280407
DTSTAMP:20260421T232350
CREATED:20250122T235523Z
LAST-MODIFIED:20250528T140029Z
UID:10001710-1838592000-1838678399@phantomcanyon.com
SUMMARY:Military Thursdays
DESCRIPTION:We proudly offer active military and veterans a 20% DISCOUNT on food & drink. \n*Valid with military ID.
URL:https://phantomcanyon.com/event/military-thursdays/2028-04-06/
ATTACH;FMTTYPE=image/jpeg:https://phantomcanyon.com/wp-content/uploads/2025/01/event_military_thursdays.jpg
END:VEVENT
BEGIN:VEVENT
DTSTART;VALUE=DATE:20280409
DTEND;VALUE=DATE:20280410
DTSTAMP:20260421T232350
CREATED:20250123T165639Z
LAST-MODIFIED:20250123T165820Z
UID:10001971-1838851200-1838937599@phantomcanyon.com
SUMMARY:Happy Hour Sundays
DESCRIPTION:Join us for happy hour drink specials including $4 flagship pints of beer\, $5 well cocktails\, and $5 wine.  \nALL DAY SUNDAYS
URL:https://phantomcanyon.com/event/happy-hour-sundays/2028-04-09/
ATTACH;FMTTYPE=image/jpeg:https://phantomcanyon.com/wp-content/uploads/2025/01/happy_hour_sundays.jpg
END:VEVENT
BEGIN:VEVENT
DTSTART;VALUE=DATE:20280413
DTEND;VALUE=DATE:20280414
DTSTAMP:20260421T232350
CREATED:20250122T235523Z
LAST-MODIFIED:20250528T140029Z
UID:10001711-1839196800-1839283199@phantomcanyon.com
SUMMARY:Military Thursdays
DESCRIPTION:We proudly offer active military and veterans a 20% DISCOUNT on food & drink. \n*Valid with military ID.
URL:https://phantomcanyon.com/event/military-thursdays/2028-04-13/
ATTACH;FMTTYPE=image/jpeg:https://phantomcanyon.com/wp-content/uploads/2025/01/event_military_thursdays.jpg
END:VEVENT
BEGIN:VEVENT
DTSTART;VALUE=DATE:20280416
DTEND;VALUE=DATE:20280417
DTSTAMP:20260421T232350
CREATED:20250123T165639Z
LAST-MODIFIED:20250123T165820Z
UID:10001972-1839456000-1839542399@phantomcanyon.com
SUMMARY:Happy Hour Sundays
DESCRIPTION:Join us for happy hour drink specials including $4 flagship pints of beer\, $5 well cocktails\, and $5 wine.  \nALL DAY SUNDAYS
URL:https://phantomcanyon.com/event/happy-hour-sundays/2028-04-16/
ATTACH;FMTTYPE=image/jpeg:https://phantomcanyon.com/wp-content/uploads/2025/01/happy_hour_sundays.jpg
END:VEVENT
BEGIN:VEVENT
DTSTART;VALUE=DATE:20280420
DTEND;VALUE=DATE:20280421
DTSTAMP:20260421T232350
CREATED:20250122T235523Z
LAST-MODIFIED:20250528T140029Z
UID:10001712-1839801600-1839887999@phantomcanyon.com
SUMMARY:Military Thursdays
DESCRIPTION:We proudly offer active military and veterans a 20% DISCOUNT on food & drink. \n*Valid with military ID.
URL:https://phantomcanyon.com/event/military-thursdays/2028-04-20/
ATTACH;FMTTYPE=image/jpeg:https://phantomcanyon.com/wp-content/uploads/2025/01/event_military_thursdays.jpg
END:VEVENT
BEGIN:VEVENT
DTSTART;VALUE=DATE:20280423
DTEND;VALUE=DATE:20280424
DTSTAMP:20260421T232350
CREATED:20250123T165639Z
LAST-MODIFIED:20250123T165820Z
UID:10001973-1840060800-1840147199@phantomcanyon.com
SUMMARY:Happy Hour Sundays
DESCRIPTION:Join us for happy hour drink specials including $4 flagship pints of beer\, $5 well cocktails\, and $5 wine.  \nALL DAY SUNDAYS
URL:https://phantomcanyon.com/event/happy-hour-sundays/2028-04-23/
ATTACH;FMTTYPE=image/jpeg:https://phantomcanyon.com/wp-content/uploads/2025/01/happy_hour_sundays.jpg
END:VEVENT
BEGIN:VEVENT
DTSTART;VALUE=DATE:20280427
DTEND;VALUE=DATE:20280428
DTSTAMP:20260421T232350
CREATED:20250122T235523Z
LAST-MODIFIED:20250528T140029Z
UID:10001713-1840406400-1840492799@phantomcanyon.com
SUMMARY:Military Thursdays
DESCRIPTION:We proudly offer active military and veterans a 20% DISCOUNT on food & drink. \n*Valid with military ID.
URL:https://phantomcanyon.com/event/military-thursdays/2028-04-27/
ATTACH;FMTTYPE=image/jpeg:https://phantomcanyon.com/wp-content/uploads/2025/01/event_military_thursdays.jpg
END:VEVENT
BEGIN:VEVENT
DTSTART;VALUE=DATE:20280430
DTEND;VALUE=DATE:20280501
DTSTAMP:20260421T232350
CREATED:20250123T165639Z
LAST-MODIFIED:20250123T165820Z
UID:10001974-1840665600-1840751999@phantomcanyon.com
SUMMARY:Happy Hour Sundays
DESCRIPTION:Join us for happy hour drink specials including $4 flagship pints of beer\, $5 well cocktails\, and $5 wine.  \nALL DAY SUNDAYS
URL:https://phantomcanyon.com/event/happy-hour-sundays/2028-04-30/
ATTACH;FMTTYPE=image/jpeg:https://phantomcanyon.com/wp-content/uploads/2025/01/happy_hour_sundays.jpg
END:VEVENT
BEGIN:VEVENT
DTSTART;VALUE=DATE:20280504
DTEND;VALUE=DATE:20280505
DTSTAMP:20260421T232350
CREATED:20250122T235523Z
LAST-MODIFIED:20250528T140029Z
UID:10001714-1841011200-1841097599@phantomcanyon.com
SUMMARY:Military Thursdays
DESCRIPTION:We proudly offer active military and veterans a 20% DISCOUNT on food & drink. \n*Valid with military ID.
URL:https://phantomcanyon.com/event/military-thursdays/2028-05-04/
ATTACH;FMTTYPE=image/jpeg:https://phantomcanyon.com/wp-content/uploads/2025/01/event_military_thursdays.jpg
END:VEVENT
BEGIN:VEVENT
DTSTART;VALUE=DATE:20280507
DTEND;VALUE=DATE:20280508
DTSTAMP:20260421T232350
CREATED:20250123T165639Z
LAST-MODIFIED:20250123T165820Z
UID:10001975-1841270400-1841356799@phantomcanyon.com
SUMMARY:Happy Hour Sundays
DESCRIPTION:Join us for happy hour drink specials including $4 flagship pints of beer\, $5 well cocktails\, and $5 wine.  \nALL DAY SUNDAYS
URL:https://phantomcanyon.com/event/happy-hour-sundays/2028-05-07/
ATTACH;FMTTYPE=image/jpeg:https://phantomcanyon.com/wp-content/uploads/2025/01/happy_hour_sundays.jpg
END:VEVENT
BEGIN:VEVENT
DTSTART;VALUE=DATE:20280511
DTEND;VALUE=DATE:20280512
DTSTAMP:20260421T232350
CREATED:20250122T235523Z
LAST-MODIFIED:20250528T140029Z
UID:10001715-1841616000-1841702399@phantomcanyon.com
SUMMARY:Military Thursdays
DESCRIPTION:We proudly offer active military and veterans a 20% DISCOUNT on food & drink. \n*Valid with military ID.
URL:https://phantomcanyon.com/event/military-thursdays/2028-05-11/
ATTACH;FMTTYPE=image/jpeg:https://phantomcanyon.com/wp-content/uploads/2025/01/event_military_thursdays.jpg
END:VEVENT
BEGIN:VEVENT
DTSTART;VALUE=DATE:20280514
DTEND;VALUE=DATE:20280515
DTSTAMP:20260421T232350
CREATED:20250123T165639Z
LAST-MODIFIED:20250123T165820Z
UID:10001976-1841875200-1841961599@phantomcanyon.com
SUMMARY:Happy Hour Sundays
DESCRIPTION:Join us for happy hour drink specials including $4 flagship pints of beer\, $5 well cocktails\, and $5 wine.  \nALL DAY SUNDAYS
URL:https://phantomcanyon.com/event/happy-hour-sundays/2028-05-14/
ATTACH;FMTTYPE=image/jpeg:https://phantomcanyon.com/wp-content/uploads/2025/01/happy_hour_sundays.jpg
END:VEVENT
BEGIN:VEVENT
DTSTART;VALUE=DATE:20280518
DTEND;VALUE=DATE:20280519
DTSTAMP:20260421T232350
CREATED:20250122T235523Z
LAST-MODIFIED:20250528T140029Z
UID:10001716-1842220800-1842307199@phantomcanyon.com
SUMMARY:Military Thursdays
DESCRIPTION:We proudly offer active military and veterans a 20% DISCOUNT on food & drink. \n*Valid with military ID.
URL:https://phantomcanyon.com/event/military-thursdays/2028-05-18/
ATTACH;FMTTYPE=image/jpeg:https://phantomcanyon.com/wp-content/uploads/2025/01/event_military_thursdays.jpg
END:VEVENT
BEGIN:VEVENT
DTSTART;VALUE=DATE:20280521
DTEND;VALUE=DATE:20280522
DTSTAMP:20260421T232350
CREATED:20250123T165639Z
LAST-MODIFIED:20250123T165820Z
UID:10001977-1842480000-1842566399@phantomcanyon.com
SUMMARY:Happy Hour Sundays
DESCRIPTION:Join us for happy hour drink specials including $4 flagship pints of beer\, $5 well cocktails\, and $5 wine.  \nALL DAY SUNDAYS
URL:https://phantomcanyon.com/event/happy-hour-sundays/2028-05-21/
ATTACH;FMTTYPE=image/jpeg:https://phantomcanyon.com/wp-content/uploads/2025/01/happy_hour_sundays.jpg
END:VEVENT
BEGIN:VEVENT
DTSTART;VALUE=DATE:20280525
DTEND;VALUE=DATE:20280526
DTSTAMP:20260421T232350
CREATED:20250122T235523Z
LAST-MODIFIED:20250528T140029Z
UID:10001717-1842825600-1842911999@phantomcanyon.com
SUMMARY:Military Thursdays
DESCRIPTION:We proudly offer active military and veterans a 20% DISCOUNT on food & drink. \n*Valid with military ID.
URL:https://phantomcanyon.com/event/military-thursdays/2028-05-25/
ATTACH;FMTTYPE=image/jpeg:https://phantomcanyon.com/wp-content/uploads/2025/01/event_military_thursdays.jpg
END:VEVENT
END:VCALENDAR