BEGIN:VCALENDAR
VERSION:2.0
PRODID:-//Phantom Canyon Brewing Co. - ECPv6.15.20//NONSGML v1.0//EN
CALSCALE:GREGORIAN
METHOD:PUBLISH
X-WR-CALNAME:Phantom Canyon Brewing Co.
X-ORIGINAL-URL:https://phantomcanyon.com
X-WR-CALDESC:Events for Phantom Canyon Brewing Co.
REFRESH-INTERVAL;VALUE=DURATION:PT1H
X-Robots-Tag:noindex
X-PUBLISHED-TTL:PT1H
BEGIN:VTIMEZONE
TZID:America/Denver
BEGIN:DAYLIGHT
TZOFFSETFROM:-0700
TZOFFSETTO:-0600
TZNAME:MDT
DTSTART:20260308T090000
END:DAYLIGHT
BEGIN:STANDARD
TZOFFSETFROM:-0600
TZOFFSETTO:-0700
TZNAME:MST
DTSTART:20261101T080000
END:STANDARD
BEGIN:DAYLIGHT
TZOFFSETFROM:-0700
TZOFFSETTO:-0600
TZNAME:MDT
DTSTART:20270314T090000
END:DAYLIGHT
BEGIN:STANDARD
TZOFFSETFROM:-0600
TZOFFSETTO:-0700
TZNAME:MST
DTSTART:20271107T080000
END:STANDARD
BEGIN:DAYLIGHT
TZOFFSETFROM:-0700
TZOFFSETTO:-0600
TZNAME:MDT
DTSTART:20280312T090000
END:DAYLIGHT
BEGIN:STANDARD
TZOFFSETFROM:-0600
TZOFFSETTO:-0700
TZNAME:MST
DTSTART:20281105T080000
END:STANDARD
BEGIN:DAYLIGHT
TZOFFSETFROM:-0700
TZOFFSETTO:-0600
TZNAME:MDT
DTSTART:20290311T090000
END:DAYLIGHT
BEGIN:STANDARD
TZOFFSETFROM:-0600
TZOFFSETTO:-0700
TZNAME:MST
DTSTART:20291104T080000
END:STANDARD
END:VTIMEZONE
BEGIN:VEVENT
DTSTART;VALUE=DATE:20271121
DTEND;VALUE=DATE:20271122
DTSTAMP:20260421T200440
CREATED:20250123T165639Z
LAST-MODIFIED:20250123T165820Z
UID:10001951-1826755200-1826841599@phantomcanyon.com
SUMMARY:Happy Hour Sundays
DESCRIPTION:Join us for happy hour drink specials including $4 flagship pints of beer\, $5 well cocktails\, and $5 wine.  \nALL DAY SUNDAYS
URL:https://phantomcanyon.com/event/happy-hour-sundays/2027-11-21/
ATTACH;FMTTYPE=image/jpeg:https://phantomcanyon.com/wp-content/uploads/2025/01/happy_hour_sundays.jpg
END:VEVENT
BEGIN:VEVENT
DTSTART;VALUE=DATE:20271125
DTEND;VALUE=DATE:20271126
DTSTAMP:20260421T200440
CREATED:20250122T235523Z
LAST-MODIFIED:20250528T140029Z
UID:10001691-1827100800-1827187199@phantomcanyon.com
SUMMARY:Military Thursdays
DESCRIPTION:We proudly offer active military and veterans a 20% DISCOUNT on food & drink. \n*Valid with military ID.
URL:https://phantomcanyon.com/event/military-thursdays/2027-11-25/
ATTACH;FMTTYPE=image/jpeg:https://phantomcanyon.com/wp-content/uploads/2025/01/event_military_thursdays.jpg
END:VEVENT
BEGIN:VEVENT
DTSTART;VALUE=DATE:20271128
DTEND;VALUE=DATE:20271129
DTSTAMP:20260421T200440
CREATED:20250123T165639Z
LAST-MODIFIED:20250123T165820Z
UID:10001952-1827360000-1827446399@phantomcanyon.com
SUMMARY:Happy Hour Sundays
DESCRIPTION:Join us for happy hour drink specials including $4 flagship pints of beer\, $5 well cocktails\, and $5 wine.  \nALL DAY SUNDAYS
URL:https://phantomcanyon.com/event/happy-hour-sundays/2027-11-28/
ATTACH;FMTTYPE=image/jpeg:https://phantomcanyon.com/wp-content/uploads/2025/01/happy_hour_sundays.jpg
END:VEVENT
BEGIN:VEVENT
DTSTART;VALUE=DATE:20271202
DTEND;VALUE=DATE:20271203
DTSTAMP:20260421T200440
CREATED:20250122T235523Z
LAST-MODIFIED:20250528T140029Z
UID:10001692-1827705600-1827791999@phantomcanyon.com
SUMMARY:Military Thursdays
DESCRIPTION:We proudly offer active military and veterans a 20% DISCOUNT on food & drink. \n*Valid with military ID.
URL:https://phantomcanyon.com/event/military-thursdays/2027-12-02/
ATTACH;FMTTYPE=image/jpeg:https://phantomcanyon.com/wp-content/uploads/2025/01/event_military_thursdays.jpg
END:VEVENT
BEGIN:VEVENT
DTSTART;VALUE=DATE:20271205
DTEND;VALUE=DATE:20271206
DTSTAMP:20260421T200440
CREATED:20250123T165639Z
LAST-MODIFIED:20250123T165820Z
UID:10001953-1827964800-1828051199@phantomcanyon.com
SUMMARY:Happy Hour Sundays
DESCRIPTION:Join us for happy hour drink specials including $4 flagship pints of beer\, $5 well cocktails\, and $5 wine.  \nALL DAY SUNDAYS
URL:https://phantomcanyon.com/event/happy-hour-sundays/2027-12-05/
ATTACH;FMTTYPE=image/jpeg:https://phantomcanyon.com/wp-content/uploads/2025/01/happy_hour_sundays.jpg
END:VEVENT
BEGIN:VEVENT
DTSTART;VALUE=DATE:20271209
DTEND;VALUE=DATE:20271210
DTSTAMP:20260421T200440
CREATED:20250122T235523Z
LAST-MODIFIED:20250528T140029Z
UID:10001693-1828310400-1828396799@phantomcanyon.com
SUMMARY:Military Thursdays
DESCRIPTION:We proudly offer active military and veterans a 20% DISCOUNT on food & drink. \n*Valid with military ID.
URL:https://phantomcanyon.com/event/military-thursdays/2027-12-09/
ATTACH;FMTTYPE=image/jpeg:https://phantomcanyon.com/wp-content/uploads/2025/01/event_military_thursdays.jpg
END:VEVENT
BEGIN:VEVENT
DTSTART;VALUE=DATE:20271212
DTEND;VALUE=DATE:20271213
DTSTAMP:20260421T200440
CREATED:20250123T165639Z
LAST-MODIFIED:20250123T165820Z
UID:10001954-1828569600-1828655999@phantomcanyon.com
SUMMARY:Happy Hour Sundays
DESCRIPTION:Join us for happy hour drink specials including $4 flagship pints of beer\, $5 well cocktails\, and $5 wine.  \nALL DAY SUNDAYS
URL:https://phantomcanyon.com/event/happy-hour-sundays/2027-12-12/
ATTACH;FMTTYPE=image/jpeg:https://phantomcanyon.com/wp-content/uploads/2025/01/happy_hour_sundays.jpg
END:VEVENT
BEGIN:VEVENT
DTSTART;VALUE=DATE:20271216
DTEND;VALUE=DATE:20271217
DTSTAMP:20260421T200440
CREATED:20250122T235523Z
LAST-MODIFIED:20250528T140029Z
UID:10001694-1828915200-1829001599@phantomcanyon.com
SUMMARY:Military Thursdays
DESCRIPTION:We proudly offer active military and veterans a 20% DISCOUNT on food & drink. \n*Valid with military ID.
URL:https://phantomcanyon.com/event/military-thursdays/2027-12-16/
ATTACH;FMTTYPE=image/jpeg:https://phantomcanyon.com/wp-content/uploads/2025/01/event_military_thursdays.jpg
END:VEVENT
BEGIN:VEVENT
DTSTART;VALUE=DATE:20271219
DTEND;VALUE=DATE:20271220
DTSTAMP:20260421T200440
CREATED:20250123T165639Z
LAST-MODIFIED:20250123T165820Z
UID:10001955-1829174400-1829260799@phantomcanyon.com
SUMMARY:Happy Hour Sundays
DESCRIPTION:Join us for happy hour drink specials including $4 flagship pints of beer\, $5 well cocktails\, and $5 wine.  \nALL DAY SUNDAYS
URL:https://phantomcanyon.com/event/happy-hour-sundays/2027-12-19/
ATTACH;FMTTYPE=image/jpeg:https://phantomcanyon.com/wp-content/uploads/2025/01/happy_hour_sundays.jpg
END:VEVENT
BEGIN:VEVENT
DTSTART;VALUE=DATE:20271223
DTEND;VALUE=DATE:20271224
DTSTAMP:20260421T200440
CREATED:20250122T235523Z
LAST-MODIFIED:20250528T140029Z
UID:10001695-1829520000-1829606399@phantomcanyon.com
SUMMARY:Military Thursdays
DESCRIPTION:We proudly offer active military and veterans a 20% DISCOUNT on food & drink. \n*Valid with military ID.
URL:https://phantomcanyon.com/event/military-thursdays/2027-12-23/
ATTACH;FMTTYPE=image/jpeg:https://phantomcanyon.com/wp-content/uploads/2025/01/event_military_thursdays.jpg
END:VEVENT
BEGIN:VEVENT
DTSTART;VALUE=DATE:20271226
DTEND;VALUE=DATE:20271227
DTSTAMP:20260421T200440
CREATED:20250123T165639Z
LAST-MODIFIED:20250123T165820Z
UID:10001956-1829779200-1829865599@phantomcanyon.com
SUMMARY:Happy Hour Sundays
DESCRIPTION:Join us for happy hour drink specials including $4 flagship pints of beer\, $5 well cocktails\, and $5 wine.  \nALL DAY SUNDAYS
URL:https://phantomcanyon.com/event/happy-hour-sundays/2027-12-26/
ATTACH;FMTTYPE=image/jpeg:https://phantomcanyon.com/wp-content/uploads/2025/01/happy_hour_sundays.jpg
END:VEVENT
BEGIN:VEVENT
DTSTART;VALUE=DATE:20271230
DTEND;VALUE=DATE:20271231
DTSTAMP:20260421T200440
CREATED:20250122T235523Z
LAST-MODIFIED:20250528T140029Z
UID:10001696-1830124800-1830211199@phantomcanyon.com
SUMMARY:Military Thursdays
DESCRIPTION:We proudly offer active military and veterans a 20% DISCOUNT on food & drink. \n*Valid with military ID.
URL:https://phantomcanyon.com/event/military-thursdays/2027-12-30/
ATTACH;FMTTYPE=image/jpeg:https://phantomcanyon.com/wp-content/uploads/2025/01/event_military_thursdays.jpg
END:VEVENT
BEGIN:VEVENT
DTSTART;VALUE=DATE:20280102
DTEND;VALUE=DATE:20280103
DTSTAMP:20260421T200440
CREATED:20250123T165639Z
LAST-MODIFIED:20250123T165820Z
UID:10001957-1830384000-1830470399@phantomcanyon.com
SUMMARY:Happy Hour Sundays
DESCRIPTION:Join us for happy hour drink specials including $4 flagship pints of beer\, $5 well cocktails\, and $5 wine.  \nALL DAY SUNDAYS
URL:https://phantomcanyon.com/event/happy-hour-sundays/2028-01-02/
ATTACH;FMTTYPE=image/jpeg:https://phantomcanyon.com/wp-content/uploads/2025/01/happy_hour_sundays.jpg
END:VEVENT
BEGIN:VEVENT
DTSTART;VALUE=DATE:20280106
DTEND;VALUE=DATE:20280107
DTSTAMP:20260421T200440
CREATED:20250122T235523Z
LAST-MODIFIED:20250528T140029Z
UID:10001697-1830729600-1830815999@phantomcanyon.com
SUMMARY:Military Thursdays
DESCRIPTION:We proudly offer active military and veterans a 20% DISCOUNT on food & drink. \n*Valid with military ID.
URL:https://phantomcanyon.com/event/military-thursdays/2028-01-06/
ATTACH;FMTTYPE=image/jpeg:https://phantomcanyon.com/wp-content/uploads/2025/01/event_military_thursdays.jpg
END:VEVENT
BEGIN:VEVENT
DTSTART;VALUE=DATE:20280109
DTEND;VALUE=DATE:20280110
DTSTAMP:20260421T200440
CREATED:20250123T165639Z
LAST-MODIFIED:20250123T165820Z
UID:10001958-1830988800-1831075199@phantomcanyon.com
SUMMARY:Happy Hour Sundays
DESCRIPTION:Join us for happy hour drink specials including $4 flagship pints of beer\, $5 well cocktails\, and $5 wine.  \nALL DAY SUNDAYS
URL:https://phantomcanyon.com/event/happy-hour-sundays/2028-01-09/
ATTACH;FMTTYPE=image/jpeg:https://phantomcanyon.com/wp-content/uploads/2025/01/happy_hour_sundays.jpg
END:VEVENT
BEGIN:VEVENT
DTSTART;VALUE=DATE:20280113
DTEND;VALUE=DATE:20280114
DTSTAMP:20260421T200440
CREATED:20250122T235523Z
LAST-MODIFIED:20250528T140029Z
UID:10001698-1831334400-1831420799@phantomcanyon.com
SUMMARY:Military Thursdays
DESCRIPTION:We proudly offer active military and veterans a 20% DISCOUNT on food & drink. \n*Valid with military ID.
URL:https://phantomcanyon.com/event/military-thursdays/2028-01-13/
ATTACH;FMTTYPE=image/jpeg:https://phantomcanyon.com/wp-content/uploads/2025/01/event_military_thursdays.jpg
END:VEVENT
BEGIN:VEVENT
DTSTART;VALUE=DATE:20280116
DTEND;VALUE=DATE:20280117
DTSTAMP:20260421T200440
CREATED:20250123T165639Z
LAST-MODIFIED:20250123T165820Z
UID:10001959-1831593600-1831679999@phantomcanyon.com
SUMMARY:Happy Hour Sundays
DESCRIPTION:Join us for happy hour drink specials including $4 flagship pints of beer\, $5 well cocktails\, and $5 wine.  \nALL DAY SUNDAYS
URL:https://phantomcanyon.com/event/happy-hour-sundays/2028-01-16/
ATTACH;FMTTYPE=image/jpeg:https://phantomcanyon.com/wp-content/uploads/2025/01/happy_hour_sundays.jpg
END:VEVENT
BEGIN:VEVENT
DTSTART;VALUE=DATE:20280120
DTEND;VALUE=DATE:20280121
DTSTAMP:20260421T200440
CREATED:20250122T235523Z
LAST-MODIFIED:20250528T140029Z
UID:10001699-1831939200-1832025599@phantomcanyon.com
SUMMARY:Military Thursdays
DESCRIPTION:We proudly offer active military and veterans a 20% DISCOUNT on food & drink. \n*Valid with military ID.
URL:https://phantomcanyon.com/event/military-thursdays/2028-01-20/
ATTACH;FMTTYPE=image/jpeg:https://phantomcanyon.com/wp-content/uploads/2025/01/event_military_thursdays.jpg
END:VEVENT
BEGIN:VEVENT
DTSTART;VALUE=DATE:20280123
DTEND;VALUE=DATE:20280124
DTSTAMP:20260421T200440
CREATED:20250123T165639Z
LAST-MODIFIED:20250123T165820Z
UID:10001960-1832198400-1832284799@phantomcanyon.com
SUMMARY:Happy Hour Sundays
DESCRIPTION:Join us for happy hour drink specials including $4 flagship pints of beer\, $5 well cocktails\, and $5 wine.  \nALL DAY SUNDAYS
URL:https://phantomcanyon.com/event/happy-hour-sundays/2028-01-23/
ATTACH;FMTTYPE=image/jpeg:https://phantomcanyon.com/wp-content/uploads/2025/01/happy_hour_sundays.jpg
END:VEVENT
BEGIN:VEVENT
DTSTART;VALUE=DATE:20280127
DTEND;VALUE=DATE:20280128
DTSTAMP:20260421T200440
CREATED:20250122T235523Z
LAST-MODIFIED:20250528T140029Z
UID:10001700-1832544000-1832630399@phantomcanyon.com
SUMMARY:Military Thursdays
DESCRIPTION:We proudly offer active military and veterans a 20% DISCOUNT on food & drink. \n*Valid with military ID.
URL:https://phantomcanyon.com/event/military-thursdays/2028-01-27/
ATTACH;FMTTYPE=image/jpeg:https://phantomcanyon.com/wp-content/uploads/2025/01/event_military_thursdays.jpg
END:VEVENT
BEGIN:VEVENT
DTSTART;VALUE=DATE:20280130
DTEND;VALUE=DATE:20280131
DTSTAMP:20260421T200440
CREATED:20250123T165639Z
LAST-MODIFIED:20250123T165820Z
UID:10001961-1832803200-1832889599@phantomcanyon.com
SUMMARY:Happy Hour Sundays
DESCRIPTION:Join us for happy hour drink specials including $4 flagship pints of beer\, $5 well cocktails\, and $5 wine.  \nALL DAY SUNDAYS
URL:https://phantomcanyon.com/event/happy-hour-sundays/2028-01-30/
ATTACH;FMTTYPE=image/jpeg:https://phantomcanyon.com/wp-content/uploads/2025/01/happy_hour_sundays.jpg
END:VEVENT
BEGIN:VEVENT
DTSTART;VALUE=DATE:20280203
DTEND;VALUE=DATE:20280204
DTSTAMP:20260421T200440
CREATED:20250122T235523Z
LAST-MODIFIED:20250528T140029Z
UID:10001701-1833148800-1833235199@phantomcanyon.com
SUMMARY:Military Thursdays
DESCRIPTION:We proudly offer active military and veterans a 20% DISCOUNT on food & drink. \n*Valid with military ID.
URL:https://phantomcanyon.com/event/military-thursdays/2028-02-03/
ATTACH;FMTTYPE=image/jpeg:https://phantomcanyon.com/wp-content/uploads/2025/01/event_military_thursdays.jpg
END:VEVENT
BEGIN:VEVENT
DTSTART;VALUE=DATE:20280206
DTEND;VALUE=DATE:20280207
DTSTAMP:20260421T200440
CREATED:20250123T165639Z
LAST-MODIFIED:20250123T165820Z
UID:10001962-1833408000-1833494399@phantomcanyon.com
SUMMARY:Happy Hour Sundays
DESCRIPTION:Join us for happy hour drink specials including $4 flagship pints of beer\, $5 well cocktails\, and $5 wine.  \nALL DAY SUNDAYS
URL:https://phantomcanyon.com/event/happy-hour-sundays/2028-02-06/
ATTACH;FMTTYPE=image/jpeg:https://phantomcanyon.com/wp-content/uploads/2025/01/happy_hour_sundays.jpg
END:VEVENT
BEGIN:VEVENT
DTSTART;VALUE=DATE:20280210
DTEND;VALUE=DATE:20280211
DTSTAMP:20260421T200440
CREATED:20250122T235523Z
LAST-MODIFIED:20250528T140029Z
UID:10001702-1833753600-1833839999@phantomcanyon.com
SUMMARY:Military Thursdays
DESCRIPTION:We proudly offer active military and veterans a 20% DISCOUNT on food & drink. \n*Valid with military ID.
URL:https://phantomcanyon.com/event/military-thursdays/2028-02-10/
ATTACH;FMTTYPE=image/jpeg:https://phantomcanyon.com/wp-content/uploads/2025/01/event_military_thursdays.jpg
END:VEVENT
BEGIN:VEVENT
DTSTART;VALUE=DATE:20280213
DTEND;VALUE=DATE:20280214
DTSTAMP:20260421T200440
CREATED:20250123T165639Z
LAST-MODIFIED:20250123T165820Z
UID:10001963-1834012800-1834099199@phantomcanyon.com
SUMMARY:Happy Hour Sundays
DESCRIPTION:Join us for happy hour drink specials including $4 flagship pints of beer\, $5 well cocktails\, and $5 wine.  \nALL DAY SUNDAYS
URL:https://phantomcanyon.com/event/happy-hour-sundays/2028-02-13/
ATTACH;FMTTYPE=image/jpeg:https://phantomcanyon.com/wp-content/uploads/2025/01/happy_hour_sundays.jpg
END:VEVENT
BEGIN:VEVENT
DTSTART;VALUE=DATE:20280217
DTEND;VALUE=DATE:20280218
DTSTAMP:20260421T200440
CREATED:20250122T235523Z
LAST-MODIFIED:20250528T140029Z
UID:10001703-1834358400-1834444799@phantomcanyon.com
SUMMARY:Military Thursdays
DESCRIPTION:We proudly offer active military and veterans a 20% DISCOUNT on food & drink. \n*Valid with military ID.
URL:https://phantomcanyon.com/event/military-thursdays/2028-02-17/
ATTACH;FMTTYPE=image/jpeg:https://phantomcanyon.com/wp-content/uploads/2025/01/event_military_thursdays.jpg
END:VEVENT
BEGIN:VEVENT
DTSTART;VALUE=DATE:20280220
DTEND;VALUE=DATE:20280221
DTSTAMP:20260421T200440
CREATED:20250123T165639Z
LAST-MODIFIED:20250123T165820Z
UID:10001964-1834617600-1834703999@phantomcanyon.com
SUMMARY:Happy Hour Sundays
DESCRIPTION:Join us for happy hour drink specials including $4 flagship pints of beer\, $5 well cocktails\, and $5 wine.  \nALL DAY SUNDAYS
URL:https://phantomcanyon.com/event/happy-hour-sundays/2028-02-20/
ATTACH;FMTTYPE=image/jpeg:https://phantomcanyon.com/wp-content/uploads/2025/01/happy_hour_sundays.jpg
END:VEVENT
BEGIN:VEVENT
DTSTART;VALUE=DATE:20280224
DTEND;VALUE=DATE:20280225
DTSTAMP:20260421T200440
CREATED:20250122T235523Z
LAST-MODIFIED:20250528T140029Z
UID:10001704-1834963200-1835049599@phantomcanyon.com
SUMMARY:Military Thursdays
DESCRIPTION:We proudly offer active military and veterans a 20% DISCOUNT on food & drink. \n*Valid with military ID.
URL:https://phantomcanyon.com/event/military-thursdays/2028-02-24/
ATTACH;FMTTYPE=image/jpeg:https://phantomcanyon.com/wp-content/uploads/2025/01/event_military_thursdays.jpg
END:VEVENT
BEGIN:VEVENT
DTSTART;VALUE=DATE:20280227
DTEND;VALUE=DATE:20280228
DTSTAMP:20260421T200440
CREATED:20250123T165639Z
LAST-MODIFIED:20250123T165820Z
UID:10001965-1835222400-1835308799@phantomcanyon.com
SUMMARY:Happy Hour Sundays
DESCRIPTION:Join us for happy hour drink specials including $4 flagship pints of beer\, $5 well cocktails\, and $5 wine.  \nALL DAY SUNDAYS
URL:https://phantomcanyon.com/event/happy-hour-sundays/2028-02-27/
ATTACH;FMTTYPE=image/jpeg:https://phantomcanyon.com/wp-content/uploads/2025/01/happy_hour_sundays.jpg
END:VEVENT
BEGIN:VEVENT
DTSTART;VALUE=DATE:20280302
DTEND;VALUE=DATE:20280303
DTSTAMP:20260421T200440
CREATED:20250122T235523Z
LAST-MODIFIED:20250528T140029Z
UID:10001705-1835568000-1835654399@phantomcanyon.com
SUMMARY:Military Thursdays
DESCRIPTION:We proudly offer active military and veterans a 20% DISCOUNT on food & drink. \n*Valid with military ID.
URL:https://phantomcanyon.com/event/military-thursdays/2028-03-02/
ATTACH;FMTTYPE=image/jpeg:https://phantomcanyon.com/wp-content/uploads/2025/01/event_military_thursdays.jpg
END:VEVENT
END:VCALENDAR