BEGIN:VCALENDAR
VERSION:2.0
PRODID:-//Phantom Canyon Brewing Co. - ECPv6.15.20//NONSGML v1.0//EN
CALSCALE:GREGORIAN
METHOD:PUBLISH
X-ORIGINAL-URL:https://phantomcanyon.com
X-WR-CALDESC:Events for Phantom Canyon Brewing Co.
REFRESH-INTERVAL;VALUE=DURATION:PT1H
X-Robots-Tag:noindex
X-PUBLISHED-TTL:PT1H
BEGIN:VTIMEZONE
TZID:America/Denver
BEGIN:DAYLIGHT
TZOFFSETFROM:-0700
TZOFFSETTO:-0600
TZNAME:MDT
DTSTART:20260308T090000
END:DAYLIGHT
BEGIN:STANDARD
TZOFFSETFROM:-0600
TZOFFSETTO:-0700
TZNAME:MST
DTSTART:20261101T080000
END:STANDARD
BEGIN:DAYLIGHT
TZOFFSETFROM:-0700
TZOFFSETTO:-0600
TZNAME:MDT
DTSTART:20270314T090000
END:DAYLIGHT
BEGIN:STANDARD
TZOFFSETFROM:-0600
TZOFFSETTO:-0700
TZNAME:MST
DTSTART:20271107T080000
END:STANDARD
BEGIN:DAYLIGHT
TZOFFSETFROM:-0700
TZOFFSETTO:-0600
TZNAME:MDT
DTSTART:20280312T090000
END:DAYLIGHT
BEGIN:STANDARD
TZOFFSETFROM:-0600
TZOFFSETTO:-0700
TZNAME:MST
DTSTART:20281105T080000
END:STANDARD
END:VTIMEZONE
BEGIN:VEVENT
DTSTART;TZID=America/Denver:20270519T183000
DTEND;TZID=America/Denver:20270519T210000
DTSTAMP:20260421T104239
CREATED:20230207T200039Z
LAST-MODIFIED:20230207T200039Z
UID:10001276-1810751400-1810760400@phantomcanyon.com
SUMMARY:Trivia Night at Phantom Canyon
DESCRIPTION:Come out to Phantom Canyon for a night of trivia! Put your team together and become the champions of the week and win a $25 gift card.
URL:https://phantomcanyon.com/event/trivia-night-at-phantom-canyon-2-2/2027-05-19/
ATTACH;FMTTYPE=image/jpeg:https://phantomcanyon.com/wp-content/uploads/2022/09/BW_PC_2126_Trivia_Night_Event_FA.jpg
END:VEVENT
BEGIN:VEVENT
DTSTART;VALUE=DATE:20270520
DTEND;VALUE=DATE:20270521
DTSTAMP:20260421T104239
CREATED:20250122T235523Z
LAST-MODIFIED:20250528T140029Z
UID:10001664-1810771200-1810857599@phantomcanyon.com
SUMMARY:Military Thursdays
DESCRIPTION:We proudly offer active military and veterans a 20% DISCOUNT on food & drink. \n*Valid with military ID.
URL:https://phantomcanyon.com/event/military-thursdays/2027-05-20/
ATTACH;FMTTYPE=image/jpeg:https://phantomcanyon.com/wp-content/uploads/2025/01/event_military_thursdays.jpg
END:VEVENT
BEGIN:VEVENT
DTSTART;VALUE=DATE:20270523
DTEND;VALUE=DATE:20270524
DTSTAMP:20260421T104239
CREATED:20250123T165639Z
LAST-MODIFIED:20250123T165820Z
UID:10001925-1811030400-1811116799@phantomcanyon.com
SUMMARY:Happy Hour Sundays
DESCRIPTION:Join us for happy hour drink specials including $4 flagship pints of beer\, $5 well cocktails\, and $5 wine.  \nALL DAY SUNDAYS
URL:https://phantomcanyon.com/event/happy-hour-sundays/2027-05-23/
ATTACH;FMTTYPE=image/jpeg:https://phantomcanyon.com/wp-content/uploads/2025/01/happy_hour_sundays.jpg
END:VEVENT
BEGIN:VEVENT
DTSTART;TZID=America/Denver:20270526T183000
DTEND;TZID=America/Denver:20270526T210000
DTSTAMP:20260421T104239
CREATED:20230207T200039Z
LAST-MODIFIED:20230207T200039Z
UID:10001277-1811356200-1811365200@phantomcanyon.com
SUMMARY:Trivia Night at Phantom Canyon
DESCRIPTION:Come out to Phantom Canyon for a night of trivia! Put your team together and become the champions of the week and win a $25 gift card.
URL:https://phantomcanyon.com/event/trivia-night-at-phantom-canyon-2-2/2027-05-26/
ATTACH;FMTTYPE=image/jpeg:https://phantomcanyon.com/wp-content/uploads/2022/09/BW_PC_2126_Trivia_Night_Event_FA.jpg
END:VEVENT
BEGIN:VEVENT
DTSTART;VALUE=DATE:20270527
DTEND;VALUE=DATE:20270528
DTSTAMP:20260421T104239
CREATED:20250122T235523Z
LAST-MODIFIED:20250528T140029Z
UID:10001665-1811376000-1811462399@phantomcanyon.com
SUMMARY:Military Thursdays
DESCRIPTION:We proudly offer active military and veterans a 20% DISCOUNT on food & drink. \n*Valid with military ID.
URL:https://phantomcanyon.com/event/military-thursdays/2027-05-27/
ATTACH;FMTTYPE=image/jpeg:https://phantomcanyon.com/wp-content/uploads/2025/01/event_military_thursdays.jpg
END:VEVENT
BEGIN:VEVENT
DTSTART;VALUE=DATE:20270530
DTEND;VALUE=DATE:20270531
DTSTAMP:20260421T104239
CREATED:20250123T165639Z
LAST-MODIFIED:20250123T165820Z
UID:10001926-1811635200-1811721599@phantomcanyon.com
SUMMARY:Happy Hour Sundays
DESCRIPTION:Join us for happy hour drink specials including $4 flagship pints of beer\, $5 well cocktails\, and $5 wine.  \nALL DAY SUNDAYS
URL:https://phantomcanyon.com/event/happy-hour-sundays/2027-05-30/
ATTACH;FMTTYPE=image/jpeg:https://phantomcanyon.com/wp-content/uploads/2025/01/happy_hour_sundays.jpg
END:VEVENT
BEGIN:VEVENT
DTSTART;TZID=America/Denver:20270602T183000
DTEND;TZID=America/Denver:20270602T210000
DTSTAMP:20260421T104239
CREATED:20230207T200039Z
LAST-MODIFIED:20230207T200039Z
UID:10001278-1811961000-1811970000@phantomcanyon.com
SUMMARY:Trivia Night at Phantom Canyon
DESCRIPTION:Come out to Phantom Canyon for a night of trivia! Put your team together and become the champions of the week and win a $25 gift card.
URL:https://phantomcanyon.com/event/trivia-night-at-phantom-canyon-2-2/2027-06-02/
ATTACH;FMTTYPE=image/jpeg:https://phantomcanyon.com/wp-content/uploads/2022/09/BW_PC_2126_Trivia_Night_Event_FA.jpg
END:VEVENT
BEGIN:VEVENT
DTSTART;VALUE=DATE:20270603
DTEND;VALUE=DATE:20270604
DTSTAMP:20260421T104239
CREATED:20250122T235523Z
LAST-MODIFIED:20250528T140029Z
UID:10001666-1811980800-1812067199@phantomcanyon.com
SUMMARY:Military Thursdays
DESCRIPTION:We proudly offer active military and veterans a 20% DISCOUNT on food & drink. \n*Valid with military ID.
URL:https://phantomcanyon.com/event/military-thursdays/2027-06-03/
ATTACH;FMTTYPE=image/jpeg:https://phantomcanyon.com/wp-content/uploads/2025/01/event_military_thursdays.jpg
END:VEVENT
BEGIN:VEVENT
DTSTART;VALUE=DATE:20270606
DTEND;VALUE=DATE:20270607
DTSTAMP:20260421T104239
CREATED:20250123T165639Z
LAST-MODIFIED:20250123T165820Z
UID:10001927-1812240000-1812326399@phantomcanyon.com
SUMMARY:Happy Hour Sundays
DESCRIPTION:Join us for happy hour drink specials including $4 flagship pints of beer\, $5 well cocktails\, and $5 wine.  \nALL DAY SUNDAYS
URL:https://phantomcanyon.com/event/happy-hour-sundays/2027-06-06/
ATTACH;FMTTYPE=image/jpeg:https://phantomcanyon.com/wp-content/uploads/2025/01/happy_hour_sundays.jpg
END:VEVENT
BEGIN:VEVENT
DTSTART;TZID=America/Denver:20270609T183000
DTEND;TZID=America/Denver:20270609T210000
DTSTAMP:20260421T104239
CREATED:20230207T200039Z
LAST-MODIFIED:20230207T200039Z
UID:10001279-1812565800-1812574800@phantomcanyon.com
SUMMARY:Trivia Night at Phantom Canyon
DESCRIPTION:Come out to Phantom Canyon for a night of trivia! Put your team together and become the champions of the week and win a $25 gift card.
URL:https://phantomcanyon.com/event/trivia-night-at-phantom-canyon-2-2/2027-06-09/
ATTACH;FMTTYPE=image/jpeg:https://phantomcanyon.com/wp-content/uploads/2022/09/BW_PC_2126_Trivia_Night_Event_FA.jpg
END:VEVENT
BEGIN:VEVENT
DTSTART;VALUE=DATE:20270610
DTEND;VALUE=DATE:20270611
DTSTAMP:20260421T104239
CREATED:20250122T235523Z
LAST-MODIFIED:20250528T140029Z
UID:10001667-1812585600-1812671999@phantomcanyon.com
SUMMARY:Military Thursdays
DESCRIPTION:We proudly offer active military and veterans a 20% DISCOUNT on food & drink. \n*Valid with military ID.
URL:https://phantomcanyon.com/event/military-thursdays/2027-06-10/
ATTACH;FMTTYPE=image/jpeg:https://phantomcanyon.com/wp-content/uploads/2025/01/event_military_thursdays.jpg
END:VEVENT
BEGIN:VEVENT
DTSTART;VALUE=DATE:20270613
DTEND;VALUE=DATE:20270614
DTSTAMP:20260421T104239
CREATED:20250123T165639Z
LAST-MODIFIED:20250123T165820Z
UID:10001928-1812844800-1812931199@phantomcanyon.com
SUMMARY:Happy Hour Sundays
DESCRIPTION:Join us for happy hour drink specials including $4 flagship pints of beer\, $5 well cocktails\, and $5 wine.  \nALL DAY SUNDAYS
URL:https://phantomcanyon.com/event/happy-hour-sundays/2027-06-13/
ATTACH;FMTTYPE=image/jpeg:https://phantomcanyon.com/wp-content/uploads/2025/01/happy_hour_sundays.jpg
END:VEVENT
BEGIN:VEVENT
DTSTART;TZID=America/Denver:20270616T183000
DTEND;TZID=America/Denver:20270616T210000
DTSTAMP:20260421T104239
CREATED:20230207T200039Z
LAST-MODIFIED:20230207T200039Z
UID:10001280-1813170600-1813179600@phantomcanyon.com
SUMMARY:Trivia Night at Phantom Canyon
DESCRIPTION:Come out to Phantom Canyon for a night of trivia! Put your team together and become the champions of the week and win a $25 gift card.
URL:https://phantomcanyon.com/event/trivia-night-at-phantom-canyon-2-2/2027-06-16/
ATTACH;FMTTYPE=image/jpeg:https://phantomcanyon.com/wp-content/uploads/2022/09/BW_PC_2126_Trivia_Night_Event_FA.jpg
END:VEVENT
BEGIN:VEVENT
DTSTART;VALUE=DATE:20270617
DTEND;VALUE=DATE:20270618
DTSTAMP:20260421T104239
CREATED:20250122T235523Z
LAST-MODIFIED:20250528T140029Z
UID:10001668-1813190400-1813276799@phantomcanyon.com
SUMMARY:Military Thursdays
DESCRIPTION:We proudly offer active military and veterans a 20% DISCOUNT on food & drink. \n*Valid with military ID.
URL:https://phantomcanyon.com/event/military-thursdays/2027-06-17/
ATTACH;FMTTYPE=image/jpeg:https://phantomcanyon.com/wp-content/uploads/2025/01/event_military_thursdays.jpg
END:VEVENT
BEGIN:VEVENT
DTSTART;VALUE=DATE:20270620
DTEND;VALUE=DATE:20270621
DTSTAMP:20260421T104239
CREATED:20250123T165639Z
LAST-MODIFIED:20250123T165820Z
UID:10001929-1813449600-1813535999@phantomcanyon.com
SUMMARY:Happy Hour Sundays
DESCRIPTION:Join us for happy hour drink specials including $4 flagship pints of beer\, $5 well cocktails\, and $5 wine.  \nALL DAY SUNDAYS
URL:https://phantomcanyon.com/event/happy-hour-sundays/2027-06-20/
ATTACH;FMTTYPE=image/jpeg:https://phantomcanyon.com/wp-content/uploads/2025/01/happy_hour_sundays.jpg
END:VEVENT
BEGIN:VEVENT
DTSTART;TZID=America/Denver:20270623T183000
DTEND;TZID=America/Denver:20270623T210000
DTSTAMP:20260421T104239
CREATED:20230207T200039Z
LAST-MODIFIED:20230207T200039Z
UID:10001281-1813775400-1813784400@phantomcanyon.com
SUMMARY:Trivia Night at Phantom Canyon
DESCRIPTION:Come out to Phantom Canyon for a night of trivia! Put your team together and become the champions of the week and win a $25 gift card.
URL:https://phantomcanyon.com/event/trivia-night-at-phantom-canyon-2-2/2027-06-23/
ATTACH;FMTTYPE=image/jpeg:https://phantomcanyon.com/wp-content/uploads/2022/09/BW_PC_2126_Trivia_Night_Event_FA.jpg
END:VEVENT
BEGIN:VEVENT
DTSTART;VALUE=DATE:20270624
DTEND;VALUE=DATE:20270625
DTSTAMP:20260421T104239
CREATED:20250122T235523Z
LAST-MODIFIED:20250528T140029Z
UID:10001669-1813795200-1813881599@phantomcanyon.com
SUMMARY:Military Thursdays
DESCRIPTION:We proudly offer active military and veterans a 20% DISCOUNT on food & drink. \n*Valid with military ID.
URL:https://phantomcanyon.com/event/military-thursdays/2027-06-24/
ATTACH;FMTTYPE=image/jpeg:https://phantomcanyon.com/wp-content/uploads/2025/01/event_military_thursdays.jpg
END:VEVENT
BEGIN:VEVENT
DTSTART;VALUE=DATE:20270627
DTEND;VALUE=DATE:20270628
DTSTAMP:20260421T104239
CREATED:20250123T165639Z
LAST-MODIFIED:20250123T165820Z
UID:10001930-1814054400-1814140799@phantomcanyon.com
SUMMARY:Happy Hour Sundays
DESCRIPTION:Join us for happy hour drink specials including $4 flagship pints of beer\, $5 well cocktails\, and $5 wine.  \nALL DAY SUNDAYS
URL:https://phantomcanyon.com/event/happy-hour-sundays/2027-06-27/
ATTACH;FMTTYPE=image/jpeg:https://phantomcanyon.com/wp-content/uploads/2025/01/happy_hour_sundays.jpg
END:VEVENT
BEGIN:VEVENT
DTSTART;TZID=America/Denver:20270630T183000
DTEND;TZID=America/Denver:20270630T210000
DTSTAMP:20260421T104239
CREATED:20230207T200039Z
LAST-MODIFIED:20230207T200039Z
UID:10001282-1814380200-1814389200@phantomcanyon.com
SUMMARY:Trivia Night at Phantom Canyon
DESCRIPTION:Come out to Phantom Canyon for a night of trivia! Put your team together and become the champions of the week and win a $25 gift card.
URL:https://phantomcanyon.com/event/trivia-night-at-phantom-canyon-2-2/2027-06-30/
ATTACH;FMTTYPE=image/jpeg:https://phantomcanyon.com/wp-content/uploads/2022/09/BW_PC_2126_Trivia_Night_Event_FA.jpg
END:VEVENT
BEGIN:VEVENT
DTSTART;VALUE=DATE:20270701
DTEND;VALUE=DATE:20270702
DTSTAMP:20260421T104239
CREATED:20250122T235523Z
LAST-MODIFIED:20250528T140029Z
UID:10001670-1814400000-1814486399@phantomcanyon.com
SUMMARY:Military Thursdays
DESCRIPTION:We proudly offer active military and veterans a 20% DISCOUNT on food & drink. \n*Valid with military ID.
URL:https://phantomcanyon.com/event/military-thursdays/2027-07-01/
ATTACH;FMTTYPE=image/jpeg:https://phantomcanyon.com/wp-content/uploads/2025/01/event_military_thursdays.jpg
END:VEVENT
BEGIN:VEVENT
DTSTART;VALUE=DATE:20270704
DTEND;VALUE=DATE:20270705
DTSTAMP:20260421T104239
CREATED:20250123T165639Z
LAST-MODIFIED:20250123T165820Z
UID:10001931-1814659200-1814745599@phantomcanyon.com
SUMMARY:Happy Hour Sundays
DESCRIPTION:Join us for happy hour drink specials including $4 flagship pints of beer\, $5 well cocktails\, and $5 wine.  \nALL DAY SUNDAYS
URL:https://phantomcanyon.com/event/happy-hour-sundays/2027-07-04/
ATTACH;FMTTYPE=image/jpeg:https://phantomcanyon.com/wp-content/uploads/2025/01/happy_hour_sundays.jpg
END:VEVENT
BEGIN:VEVENT
DTSTART;TZID=America/Denver:20270707T183000
DTEND;TZID=America/Denver:20270707T210000
DTSTAMP:20260421T104239
CREATED:20230207T200039Z
LAST-MODIFIED:20230207T200039Z
UID:10001283-1814985000-1814994000@phantomcanyon.com
SUMMARY:Trivia Night at Phantom Canyon
DESCRIPTION:Come out to Phantom Canyon for a night of trivia! Put your team together and become the champions of the week and win a $25 gift card.
URL:https://phantomcanyon.com/event/trivia-night-at-phantom-canyon-2-2/2027-07-07/
ATTACH;FMTTYPE=image/jpeg:https://phantomcanyon.com/wp-content/uploads/2022/09/BW_PC_2126_Trivia_Night_Event_FA.jpg
END:VEVENT
BEGIN:VEVENT
DTSTART;VALUE=DATE:20270708
DTEND;VALUE=DATE:20270709
DTSTAMP:20260421T104239
CREATED:20250122T235523Z
LAST-MODIFIED:20250528T140029Z
UID:10001671-1815004800-1815091199@phantomcanyon.com
SUMMARY:Military Thursdays
DESCRIPTION:We proudly offer active military and veterans a 20% DISCOUNT on food & drink. \n*Valid with military ID.
URL:https://phantomcanyon.com/event/military-thursdays/2027-07-08/
ATTACH;FMTTYPE=image/jpeg:https://phantomcanyon.com/wp-content/uploads/2025/01/event_military_thursdays.jpg
END:VEVENT
BEGIN:VEVENT
DTSTART;VALUE=DATE:20270711
DTEND;VALUE=DATE:20270712
DTSTAMP:20260421T104239
CREATED:20250123T165639Z
LAST-MODIFIED:20250123T165820Z
UID:10001932-1815264000-1815350399@phantomcanyon.com
SUMMARY:Happy Hour Sundays
DESCRIPTION:Join us for happy hour drink specials including $4 flagship pints of beer\, $5 well cocktails\, and $5 wine.  \nALL DAY SUNDAYS
URL:https://phantomcanyon.com/event/happy-hour-sundays/2027-07-11/
ATTACH;FMTTYPE=image/jpeg:https://phantomcanyon.com/wp-content/uploads/2025/01/happy_hour_sundays.jpg
END:VEVENT
BEGIN:VEVENT
DTSTART;TZID=America/Denver:20270714T183000
DTEND;TZID=America/Denver:20270714T210000
DTSTAMP:20260421T104239
CREATED:20230207T200039Z
LAST-MODIFIED:20230207T200039Z
UID:10001284-1815589800-1815598800@phantomcanyon.com
SUMMARY:Trivia Night at Phantom Canyon
DESCRIPTION:Come out to Phantom Canyon for a night of trivia! Put your team together and become the champions of the week and win a $25 gift card.
URL:https://phantomcanyon.com/event/trivia-night-at-phantom-canyon-2-2/2027-07-14/
ATTACH;FMTTYPE=image/jpeg:https://phantomcanyon.com/wp-content/uploads/2022/09/BW_PC_2126_Trivia_Night_Event_FA.jpg
END:VEVENT
BEGIN:VEVENT
DTSTART;VALUE=DATE:20270715
DTEND;VALUE=DATE:20270716
DTSTAMP:20260421T104239
CREATED:20250122T235523Z
LAST-MODIFIED:20250528T140029Z
UID:10001672-1815609600-1815695999@phantomcanyon.com
SUMMARY:Military Thursdays
DESCRIPTION:We proudly offer active military and veterans a 20% DISCOUNT on food & drink. \n*Valid with military ID.
URL:https://phantomcanyon.com/event/military-thursdays/2027-07-15/
ATTACH;FMTTYPE=image/jpeg:https://phantomcanyon.com/wp-content/uploads/2025/01/event_military_thursdays.jpg
END:VEVENT
BEGIN:VEVENT
DTSTART;VALUE=DATE:20270718
DTEND;VALUE=DATE:20270719
DTSTAMP:20260421T104239
CREATED:20250123T165639Z
LAST-MODIFIED:20250123T165820Z
UID:10001933-1815868800-1815955199@phantomcanyon.com
SUMMARY:Happy Hour Sundays
DESCRIPTION:Join us for happy hour drink specials including $4 flagship pints of beer\, $5 well cocktails\, and $5 wine.  \nALL DAY SUNDAYS
URL:https://phantomcanyon.com/event/happy-hour-sundays/2027-07-18/
ATTACH;FMTTYPE=image/jpeg:https://phantomcanyon.com/wp-content/uploads/2025/01/happy_hour_sundays.jpg
END:VEVENT
BEGIN:VEVENT
DTSTART;TZID=America/Denver:20270721T183000
DTEND;TZID=America/Denver:20270721T210000
DTSTAMP:20260421T104239
CREATED:20230207T200039Z
LAST-MODIFIED:20230207T200039Z
UID:10001285-1816194600-1816203600@phantomcanyon.com
SUMMARY:Trivia Night at Phantom Canyon
DESCRIPTION:Come out to Phantom Canyon for a night of trivia! Put your team together and become the champions of the week and win a $25 gift card.
URL:https://phantomcanyon.com/event/trivia-night-at-phantom-canyon-2-2/2027-07-21/
ATTACH;FMTTYPE=image/jpeg:https://phantomcanyon.com/wp-content/uploads/2022/09/BW_PC_2126_Trivia_Night_Event_FA.jpg
END:VEVENT
BEGIN:VEVENT
DTSTART;VALUE=DATE:20270722
DTEND;VALUE=DATE:20270723
DTSTAMP:20260421T104239
CREATED:20250122T235523Z
LAST-MODIFIED:20250528T140029Z
UID:10001673-1816214400-1816300799@phantomcanyon.com
SUMMARY:Military Thursdays
DESCRIPTION:We proudly offer active military and veterans a 20% DISCOUNT on food & drink. \n*Valid with military ID.
URL:https://phantomcanyon.com/event/military-thursdays/2027-07-22/
ATTACH;FMTTYPE=image/jpeg:https://phantomcanyon.com/wp-content/uploads/2025/01/event_military_thursdays.jpg
END:VEVENT
BEGIN:VEVENT
DTSTART;VALUE=DATE:20270725
DTEND;VALUE=DATE:20270726
DTSTAMP:20260421T104239
CREATED:20250123T165639Z
LAST-MODIFIED:20250123T165820Z
UID:10001934-1816473600-1816559999@phantomcanyon.com
SUMMARY:Happy Hour Sundays
DESCRIPTION:Join us for happy hour drink specials including $4 flagship pints of beer\, $5 well cocktails\, and $5 wine.  \nALL DAY SUNDAYS
URL:https://phantomcanyon.com/event/happy-hour-sundays/2027-07-25/
ATTACH;FMTTYPE=image/jpeg:https://phantomcanyon.com/wp-content/uploads/2025/01/happy_hour_sundays.jpg
END:VEVENT
END:VCALENDAR